BEGIN:VCALENDAR
VERSION:2.0
PRODID:-//Wisconsin Motor Events - ECPv6.15.20//NONSGML v1.0//EN
CALSCALE:GREGORIAN
METHOD:PUBLISH
X-WR-CALNAME:Wisconsin Motor Events
X-ORIGINAL-URL:https://wisconsinmotorevents.com
X-WR-CALDESC:Events for Wisconsin Motor Events
REFRESH-INTERVAL;VALUE=DURATION:PT1H
X-Robots-Tag:noindex
X-PUBLISHED-TTL:PT1H
BEGIN:VTIMEZONE
TZID:America/Chicago
BEGIN:DAYLIGHT
TZOFFSETFROM:-0600
TZOFFSETTO:-0500
TZNAME:CDT
DTSTART:20250309T080000
END:DAYLIGHT
BEGIN:STANDARD
TZOFFSETFROM:-0500
TZOFFSETTO:-0600
TZNAME:CST
DTSTART:20251102T070000
END:STANDARD
BEGIN:DAYLIGHT
TZOFFSETFROM:-0600
TZOFFSETTO:-0500
TZNAME:CDT
DTSTART:20260308T080000
END:DAYLIGHT
BEGIN:STANDARD
TZOFFSETFROM:-0500
TZOFFSETTO:-0600
TZNAME:CST
DTSTART:20261101T070000
END:STANDARD
BEGIN:DAYLIGHT
TZOFFSETFROM:-0600
TZOFFSETTO:-0500
TZNAME:CDT
DTSTART:20270314T080000
END:DAYLIGHT
BEGIN:STANDARD
TZOFFSETFROM:-0500
TZOFFSETTO:-0600
TZNAME:CST
DTSTART:20271107T070000
END:STANDARD
END:VTIMEZONE
BEGIN:VEVENT
DTSTART;TZID=America/Chicago:20260620T080000
DTEND;TZID=America/Chicago:20260620T150000
DTSTAMP:20260425T123354
CREATED:20260115T020150Z
LAST-MODIFIED:20260115T020150Z
UID:7613-1781942400-1781967600@wisconsinmotorevents.com
SUMMARY:Riponfest Classic Car Show - Ripon - 6/20/26
DESCRIPTION:The 5th Annual Riponfest Classic Car Show will be on SATURDAY JUNE 20\, 2026\, at Barlow Park in Ripon. WI. \nThe event runs from 8:00am to 3:00pm with the awards being presented at 3:00pm. \nThis will be a JUDGED SHOW. There will be 29 classes with a minimum of (3) awards per class depending on the number of entries in each class. There will be (91) awards presented along with a BEST OF SHOW award. \nThe show had to be moved to a Saturday due to a conflict with Spectrum Carnival. \nShould you have any questions\, please feel free to contact Howard Stibb at 920-299-0757. The event is sponsored in part by O’Reilly Auto Parts
URL:https://wisconsinmotorevents.com/event/riponfest-classic-car-show-ripon-6-20-26/
LOCATION:Barlow Park – Ripon\, Griswold St\, Ripon\, United States
CATEGORIES:Car Show
ATTACH;FMTTYPE=image/jpeg:https://wisconsinmotorevents.com/wp-content/uploads/2026/01/ripon-26-car-show-v-2.jpg
END:VEVENT
END:VCALENDAR