BEGIN:VCALENDAR
VERSION:2.0
PRODID:-//Wisconsin Motor Events - ECPv6.15.20//NONSGML v1.0//EN
CALSCALE:GREGORIAN
METHOD:PUBLISH
X-WR-CALNAME:Wisconsin Motor Events
X-ORIGINAL-URL:https://wisconsinmotorevents.com
X-WR-CALDESC:Events for Wisconsin Motor Events
REFRESH-INTERVAL;VALUE=DURATION:PT1H
X-Robots-Tag:noindex
X-PUBLISHED-TTL:PT1H
BEGIN:VTIMEZONE
TZID:America/Chicago
BEGIN:DAYLIGHT
TZOFFSETFROM:-0600
TZOFFSETTO:-0500
TZNAME:CDT
DTSTART:20250309T080000
END:DAYLIGHT
BEGIN:STANDARD
TZOFFSETFROM:-0500
TZOFFSETTO:-0600
TZNAME:CST
DTSTART:20251102T070000
END:STANDARD
BEGIN:DAYLIGHT
TZOFFSETFROM:-0600
TZOFFSETTO:-0500
TZNAME:CDT
DTSTART:20260308T080000
END:DAYLIGHT
BEGIN:STANDARD
TZOFFSETFROM:-0500
TZOFFSETTO:-0600
TZNAME:CST
DTSTART:20261101T070000
END:STANDARD
BEGIN:DAYLIGHT
TZOFFSETFROM:-0600
TZOFFSETTO:-0500
TZNAME:CDT
DTSTART:20270314T080000
END:DAYLIGHT
BEGIN:STANDARD
TZOFFSETFROM:-0500
TZOFFSETTO:-0600
TZNAME:CST
DTSTART:20271107T070000
END:STANDARD
END:VTIMEZONE
BEGIN:VEVENT
DTSTART;TZID=America/Chicago:20260628T080000
DTEND;TZID=America/Chicago:20260628T170000
DTSTAMP:20260421T181349
CREATED:20251126T032217Z
LAST-MODIFIED:20251126T032217Z
UID:10003943-1782633600-1782666000@wisconsinmotorevents.com
SUMMARY:Autocross - Road America
DESCRIPTION:
URL:https://wisconsinmotorevents.com/event/autocross-road-america/2026-06-28/
LOCATION:Road America\, N7390 Hwy 67\, Plymouth\, WI\, 53073\, United States
CATEGORIES:Autocross
ATTACH;FMTTYPE=image/jpeg:https://wisconsinmotorevents.com/wp-content/uploads/2025/11/fvscc.jpg
END:VEVENT
BEGIN:VEVENT
DTSTART;TZID=America/Chicago:20260712T080000
DTEND;TZID=America/Chicago:20260712T170000
DTSTAMP:20260421T181349
CREATED:20251126T032217Z
LAST-MODIFIED:20251126T032217Z
UID:10003944-1783843200-1783875600@wisconsinmotorevents.com
SUMMARY:Autocross - Road America
DESCRIPTION:
URL:https://wisconsinmotorevents.com/event/autocross-road-america/2026-07-12/
LOCATION:Road America\, N7390 Hwy 67\, Plymouth\, WI\, 53073\, United States
CATEGORIES:Autocross
ATTACH;FMTTYPE=image/jpeg:https://wisconsinmotorevents.com/wp-content/uploads/2025/11/fvscc.jpg
END:VEVENT
BEGIN:VEVENT
DTSTART;TZID=America/Chicago:20260719T080000
DTEND;TZID=America/Chicago:20260719T170000
DTSTAMP:20260421T181349
CREATED:20251126T032458Z
LAST-MODIFIED:20251126T032458Z
UID:10003950-1784448000-1784480400@wisconsinmotorevents.com
SUMMARY:Autocross - Shawano
DESCRIPTION:
URL:https://wisconsinmotorevents.com/event/autocross-shawano/2026-07-19/
LOCATION:USAirMotorsports Raceway\, W5901 County Rd BE\, Shawano\, 54166\, United States
CATEGORIES:Autocross
ATTACH;FMTTYPE=image/jpeg:https://wisconsinmotorevents.com/wp-content/uploads/2025/11/fvscc.jpg
END:VEVENT
BEGIN:VEVENT
DTSTART;VALUE=DATE:20260723
DTEND;VALUE=DATE:20260727
DTSTAMP:20260421T181349
CREATED:20251207T182444Z
LAST-MODIFIED:20260206T220859Z
UID:10003993-1784764800-1785110399@wisconsinmotorevents.com
SUMMARY:WI Camaro & Firebird Rally - Road America - 7/23-7/26/26
DESCRIPTION:Thursday 7/23\n– Evening Meet and Greet Welcome Party \nFriday 7/24\n– Autocross on the Briggs and Stratton one mile pro Go-cart track\n– Friday evening Show and Shine \nSaturday 7/25\n– Car Show inside the Road Course Carousel Turn\n– Dedicated Sunset Cruise on the 4 Mile track\n– Evening Cruise In with live music \nSunday 7/26\n– Scenic Kettle Moriane Cruise to Brunch at JAAAGZ Bar & Grill Elkhart Lake \n 
URL:https://wisconsinmotorevents.com/event/wi-camaro-rally-road-america-7-23-7-26-26/
LOCATION:Road America\, N7390 Hwy 67\, Plymouth\, WI\, 53073\, United States
CATEGORIES:Autocross,Car Show,High Performance Drivers Education/Event
ATTACH;FMTTYPE=image/jpeg:https://wisconsinmotorevents.com/wp-content/uploads/2025/12/camaro-2.jpg
END:VEVENT
BEGIN:VEVENT
DTSTART;TZID=America/Chicago:20260726T090000
DTEND;TZID=America/Chicago:20260726T170000
DTSTAMP:20260421T181349
CREATED:20260131T024241Z
LAST-MODIFIED:20260131T024241Z
UID:10004125-1785056400-1785085200@wisconsinmotorevents.com
SUMMARY:CWSCC Autocross - Marshfield - 7/26/2026
DESCRIPTION:
URL:https://wisconsinmotorevents.com/event/cwscc-autocross-marshfield-7-26-2026/
LOCATION:Marshfield Motor Speedway – Marshfield\, 10853 CR-H\, Marshfield\, United States
CATEGORIES:Autocross
ATTACH;FMTTYPE=image/jpeg:https://wisconsinmotorevents.com/wp-content/uploads/2026/01/cwscc-hub.jpg
END:VEVENT
BEGIN:VEVENT
DTSTART;TZID=America/Chicago:20260816T080000
DTEND;TZID=America/Chicago:20260816T170000
DTSTAMP:20260421T181349
CREATED:20251126T032458Z
LAST-MODIFIED:20251126T032458Z
UID:10003951-1786867200-1786899600@wisconsinmotorevents.com
SUMMARY:Autocross - Shawano
DESCRIPTION:
URL:https://wisconsinmotorevents.com/event/autocross-shawano/2026-08-16/
LOCATION:USAirMotorsports Raceway\, W5901 County Rd BE\, Shawano\, 54166\, United States
CATEGORIES:Autocross
ATTACH;FMTTYPE=image/jpeg:https://wisconsinmotorevents.com/wp-content/uploads/2025/11/fvscc.jpg
END:VEVENT
BEGIN:VEVENT
DTSTART;TZID=America/Chicago:20260919T080000
DTEND;TZID=America/Chicago:20260919T170000
DTSTAMP:20260421T181349
CREATED:20251126T032217Z
LAST-MODIFIED:20251126T032217Z
UID:10003945-1789804800-1789837200@wisconsinmotorevents.com
SUMMARY:Autocross - Road America
DESCRIPTION:
URL:https://wisconsinmotorevents.com/event/autocross-road-america/2026-09-19/
LOCATION:Road America\, N7390 Hwy 67\, Plymouth\, WI\, 53073\, United States
CATEGORIES:Autocross
ATTACH;FMTTYPE=image/jpeg:https://wisconsinmotorevents.com/wp-content/uploads/2025/11/fvscc.jpg
END:VEVENT
BEGIN:VEVENT
DTSTART;VALUE=DATE:20260926
DTEND;VALUE=DATE:20260927
DTSTAMP:20260421T181349
CREATED:20251228T011103Z
LAST-MODIFIED:20251228T011103Z
UID:10004011-1790380800-1790467199@wisconsinmotorevents.com
SUMMARY:Waumandee Time Trials - 9/26/26
DESCRIPTION:Must register to participate in advance \nDriver Sign Up \n \n 
URL:https://wisconsinmotorevents.com/event/waumandee-time-trials-9-26-26/
LOCATION:Waumandee\, Waumandee\, United States
CATEGORIES:Autocross,Time Trials
END:VEVENT
BEGIN:VEVENT
DTSTART;VALUE=DATE:20260930
DTEND;VALUE=DATE:20261005
DTSTAMP:20260421T181349
CREATED:20260117T234221Z
LAST-MODIFIED:20260117T234221Z
UID:10004099-1790726400-1791158399@wisconsinmotorevents.com
SUMMARY:Cruise for a Cause Fall Ford Fest - Baraboo - 9/30 thru 10/4/26
DESCRIPTION:CAR SHOW\nROAD TOURS\nBANQUET\nHOT LAPS DELLS RACEWAY\nTRACK DAY\nAUTOCROSS\nDYNO-PULLS & MORE! \n$20.00 – $279.00\nPrice Varies Package/Options
URL:https://wisconsinmotorevents.com/event/cruise-for-a-cause-fall-ford-fest-baraboo-9-30-thru-10-4-26/
LOCATION:Ho-Chunk Gaming Wisconsin Dells\, 3194 CR-BD\, Baraboo\, 53913\, United States
CATEGORIES:Autocross,Car Event,Car Show,Track Day
END:VEVENT
BEGIN:VEVENT
DTSTART;TZID=America/Chicago:20261017T080000
DTEND;TZID=America/Chicago:20261017T170000
DTSTAMP:20260421T181349
CREATED:20251126T032217Z
LAST-MODIFIED:20251126T032217Z
UID:10003946-1792224000-1792256400@wisconsinmotorevents.com
SUMMARY:Autocross - Road America
DESCRIPTION:
URL:https://wisconsinmotorevents.com/event/autocross-road-america/2026-10-17/
LOCATION:Road America\, N7390 Hwy 67\, Plymouth\, WI\, 53073\, United States
CATEGORIES:Autocross
ATTACH;FMTTYPE=image/jpeg:https://wisconsinmotorevents.com/wp-content/uploads/2025/11/fvscc.jpg
END:VEVENT
BEGIN:VEVENT
DTSTART;TZID=America/Chicago:20261018T080000
DTEND;TZID=America/Chicago:20261018T170000
DTSTAMP:20260421T181349
CREATED:20251126T032217Z
LAST-MODIFIED:20251126T032217Z
UID:10003947-1792310400-1792342800@wisconsinmotorevents.com
SUMMARY:Autocross - Road America
DESCRIPTION:
URL:https://wisconsinmotorevents.com/event/autocross-road-america/2026-10-18/
LOCATION:Road America\, N7390 Hwy 67\, Plymouth\, WI\, 53073\, United States
CATEGORIES:Autocross
ATTACH;FMTTYPE=image/jpeg:https://wisconsinmotorevents.com/wp-content/uploads/2025/11/fvscc.jpg
END:VEVENT
END:VCALENDAR