BEGIN:VCALENDAR
VERSION:2.0
PRODID:-//Wisconsin Motor Events - ECPv6.15.20//NONSGML v1.0//EN
CALSCALE:GREGORIAN
METHOD:PUBLISH
X-WR-CALNAME:Wisconsin Motor Events
X-ORIGINAL-URL:https://wisconsinmotorevents.com
X-WR-CALDESC:Events for Wisconsin Motor Events
REFRESH-INTERVAL;VALUE=DURATION:PT1H
X-Robots-Tag:noindex
X-PUBLISHED-TTL:PT1H
BEGIN:VTIMEZONE
TZID:America/Chicago
BEGIN:DAYLIGHT
TZOFFSETFROM:-0600
TZOFFSETTO:-0500
TZNAME:CDT
DTSTART:20250309T080000
END:DAYLIGHT
BEGIN:STANDARD
TZOFFSETFROM:-0500
TZOFFSETTO:-0600
TZNAME:CST
DTSTART:20251102T070000
END:STANDARD
BEGIN:DAYLIGHT
TZOFFSETFROM:-0600
TZOFFSETTO:-0500
TZNAME:CDT
DTSTART:20260308T080000
END:DAYLIGHT
BEGIN:STANDARD
TZOFFSETFROM:-0500
TZOFFSETTO:-0600
TZNAME:CST
DTSTART:20261101T070000
END:STANDARD
BEGIN:DAYLIGHT
TZOFFSETFROM:-0600
TZOFFSETTO:-0500
TZNAME:CDT
DTSTART:20270314T080000
END:DAYLIGHT
BEGIN:STANDARD
TZOFFSETFROM:-0500
TZOFFSETTO:-0600
TZNAME:CST
DTSTART:20271107T070000
END:STANDARD
END:VTIMEZONE
BEGIN:VEVENT
DTSTART;TZID=America/Chicago:20260616T170000
DTEND;TZID=America/Chicago:20260616T200000
DTSTAMP:20260424T004320
CREATED:20260112T231314Z
LAST-MODIFIED:20260112T231440Z
UID:10004072-1781629200-1781640000@wisconsinmotorevents.com
SUMMARY:All Stop Car Cruise - Lodi
DESCRIPTION:6/26 – Universal Sound \n6/29 – Tony Rocker (Elvis tribute artist] \n6/16 – V05 \n6/23 – Marcy & the Highights \n6/30 – Del Ray’s \n7/7 – Late 4 Dinner \n7/14 – Elvis & Cash \n7/21 – Eric Diamond (Neil Diamond tribute) & Jesse Aron (Roy Orbison Tribute) \n7/28 – Sunshine \n8/4 – Jonny Lyons & the Pride \n8/11 – Smokin Meerkats \n8/18 – Best Practice \n8/25 – Sharp Dressed Men
URL:https://wisconsinmotorevents.com/event/all-stop-car-cruise-lodi/2026-06-16/
LOCATION:All Stop Travel Mart – Lodi\, N1551 Sunset Drive\, Lodi\, United States
CATEGORIES:Car Cruise
END:VEVENT
BEGIN:VEVENT
DTSTART;TZID=America/Chicago:20260618T173000
DTEND;TZID=America/Chicago:20260618T200000
DTSTAMP:20260424T004320
CREATED:20260313T211650Z
LAST-MODIFIED:20260313T211650Z
UID:10004487-1781803800-1781812800@wisconsinmotorevents.com
SUMMARY:Classic Car Cruise Night - Sussex - 6/18/2026
DESCRIPTION:Actual Cruise in the town of Sussex – and – car show on Main Street
URL:https://wisconsinmotorevents.com/event/classic-car-cruise-night-sussex-6-18-2026/
LOCATION:Sussex Civic Center\, N64W23760 Main St\, Sussex\, United States
CATEGORIES:Car Cruise,Car Show
ATTACH;FMTTYPE=image/jpeg:https://wisconsinmotorevents.com/wp-content/uploads/2026/03/classic-cruise-sussex.jpg
END:VEVENT
END:VCALENDAR