BEGIN:VCALENDAR
VERSION:2.0
PRODID:-//Wisconsin Motor Events - ECPv6.15.20//NONSGML v1.0//EN
CALSCALE:GREGORIAN
METHOD:PUBLISH
X-WR-CALNAME:Wisconsin Motor Events
X-ORIGINAL-URL:https://wisconsinmotorevents.com
X-WR-CALDESC:Events for Wisconsin Motor Events
REFRESH-INTERVAL;VALUE=DURATION:PT1H
X-Robots-Tag:noindex
X-PUBLISHED-TTL:PT1H
BEGIN:VTIMEZONE
TZID:America/Chicago
BEGIN:DAYLIGHT
TZOFFSETFROM:-0600
TZOFFSETTO:-0500
TZNAME:CDT
DTSTART:20250309T080000
END:DAYLIGHT
BEGIN:STANDARD
TZOFFSETFROM:-0500
TZOFFSETTO:-0600
TZNAME:CST
DTSTART:20251102T070000
END:STANDARD
BEGIN:DAYLIGHT
TZOFFSETFROM:-0600
TZOFFSETTO:-0500
TZNAME:CDT
DTSTART:20260308T080000
END:DAYLIGHT
BEGIN:STANDARD
TZOFFSETFROM:-0500
TZOFFSETTO:-0600
TZNAME:CST
DTSTART:20261101T070000
END:STANDARD
BEGIN:DAYLIGHT
TZOFFSETFROM:-0600
TZOFFSETTO:-0500
TZNAME:CDT
DTSTART:20270314T080000
END:DAYLIGHT
BEGIN:STANDARD
TZOFFSETFROM:-0500
TZOFFSETTO:-0600
TZNAME:CST
DTSTART:20271107T070000
END:STANDARD
END:VTIMEZONE
BEGIN:VEVENT
DTSTART;TZID=America/Chicago:20260602T080000
DTEND;TZID=America/Chicago:20260602T170000
DTSTAMP:20260422T022605
CREATED:20250907T213227Z
LAST-MODIFIED:20250907T213227Z
UID:10003739-1780387200-1780419600@wisconsinmotorevents.com
SUMMARY:Hot Rod Tuesday - Beaver Dam
DESCRIPTION:Events from 5pm – 8pm
URL:https://wisconsinmotorevents.com/event/hot-rod-tuesday-beaver-dam/2026-06-02/
LOCATION:Tanya’s Leipsic Tavern\, N5683 Co Rd G\, Beaver Dam\, 53916\, United States
CATEGORIES:Car Night
ATTACH;FMTTYPE=image/jpeg:https://wisconsinmotorevents.com/wp-content/uploads/2025/09/hrt.jpg
END:VEVENT
BEGIN:VEVENT
DTSTART;TZID=America/Chicago:20260604T173000
DTEND;TZID=America/Chicago:20260604T203000
DTSTAMP:20260422T022605
CREATED:20260413T221024Z
LAST-MODIFIED:20260413T221024Z
UID:10004769-1780594200-1780605000@wisconsinmotorevents.com
SUMMARY:Octane & Iron - Menomonie
DESCRIPTION:Every other Thursday 5:30-8:30
URL:https://wisconsinmotorevents.com/event/octane-iron-menomonie/2026-06-04/
LOCATION:Taco John’s Menomonie\, 1526 N Broadway St\, Menomonie\, United States
CATEGORIES:Car Night
ATTACH;FMTTYPE=image/jpeg:https://wisconsinmotorevents.com/wp-content/uploads/2026/04/octane.jpg
END:VEVENT
BEGIN:VEVENT
DTSTART;TZID=America/Chicago:20260605T160000
DTEND;TZID=America/Chicago:20260605T200000
DTSTAMP:20260422T022605
CREATED:20260228T034718Z
LAST-MODIFIED:20260228T034718Z
UID:10004335-1780675200-1780689600@wisconsinmotorevents.com
SUMMARY:Custom Car & Bike Night - Milwaukee
DESCRIPTION:
URL:https://wisconsinmotorevents.com/event/custom-car-bike-night-milwaukee/2026-06-05/
LOCATION:Harley-Davidson Museum\, 400 W Canal St\, Milwaukee\, 53203\, United States
CATEGORIES:Car Night,Motorcycle Night
ATTACH;FMTTYPE=image/jpeg:https://wisconsinmotorevents.com/wp-content/uploads/2026/02/harley-car-night.jpg
END:VEVENT
BEGIN:VEVENT
DTSTART;TZID=America/Chicago:20260612T160000
DTEND;TZID=America/Chicago:20260612T200000
DTSTAMP:20260422T022605
CREATED:20260228T034718Z
LAST-MODIFIED:20260228T034718Z
UID:10004336-1781280000-1781294400@wisconsinmotorevents.com
SUMMARY:Custom Car & Bike Night - Milwaukee
DESCRIPTION:
URL:https://wisconsinmotorevents.com/event/custom-car-bike-night-milwaukee/2026-06-12/
LOCATION:Harley-Davidson Museum\, 400 W Canal St\, Milwaukee\, 53203\, United States
CATEGORIES:Car Night,Motorcycle Night
ATTACH;FMTTYPE=image/jpeg:https://wisconsinmotorevents.com/wp-content/uploads/2026/02/harley-car-night.jpg
END:VEVENT
BEGIN:VEVENT
DTSTART;TZID=America/Chicago:20260616T080000
DTEND;TZID=America/Chicago:20260616T170000
DTSTAMP:20260422T022605
CREATED:20250907T213227Z
LAST-MODIFIED:20250907T213227Z
UID:10003740-1781596800-1781629200@wisconsinmotorevents.com
SUMMARY:Hot Rod Tuesday - Beaver Dam
DESCRIPTION:Events from 5pm – 8pm
URL:https://wisconsinmotorevents.com/event/hot-rod-tuesday-beaver-dam/2026-06-16/
LOCATION:Tanya’s Leipsic Tavern\, N5683 Co Rd G\, Beaver Dam\, 53916\, United States
CATEGORIES:Car Night
ATTACH;FMTTYPE=image/jpeg:https://wisconsinmotorevents.com/wp-content/uploads/2025/09/hrt.jpg
END:VEVENT
BEGIN:VEVENT
DTSTART;TZID=America/Chicago:20260616T170000
DTEND;TZID=America/Chicago:20260616T200000
DTSTAMP:20260422T022605
CREATED:20260413T173259Z
LAST-MODIFIED:20260413T173259Z
UID:10004763-1781629200-1781640000@wisconsinmotorevents.com
SUMMARY:Cars @ Kim's - Oconomowoc
DESCRIPTION:
URL:https://wisconsinmotorevents.com/event/cars-kims-oconomowoc/2026-06-16/
LOCATION:Kim’s Gourmet Pub – Oconomowoc\, N67W33395 County Trunk Hwy K\, Oconomowoc\, United States
CATEGORIES:Car Night
ATTACH;FMTTYPE=image/jpeg:https://wisconsinmotorevents.com/wp-content/uploads/2026/04/kim.jpg
END:VEVENT
BEGIN:VEVENT
DTSTART;TZID=America/Chicago:20260618T173000
DTEND;TZID=America/Chicago:20260618T203000
DTSTAMP:20260422T022605
CREATED:20260413T221024Z
LAST-MODIFIED:20260413T221024Z
UID:10004770-1781803800-1781814600@wisconsinmotorevents.com
SUMMARY:Octane & Iron - Menomonie
DESCRIPTION:Every other Thursday 5:30-8:30
URL:https://wisconsinmotorevents.com/event/octane-iron-menomonie/2026-06-18/
LOCATION:Taco John’s Menomonie\, 1526 N Broadway St\, Menomonie\, United States
CATEGORIES:Car Night
ATTACH;FMTTYPE=image/jpeg:https://wisconsinmotorevents.com/wp-content/uploads/2026/04/octane.jpg
END:VEVENT
BEGIN:VEVENT
DTSTART;TZID=America/Chicago:20260619T160000
DTEND;TZID=America/Chicago:20260619T200000
DTSTAMP:20260422T022605
CREATED:20260228T034718Z
LAST-MODIFIED:20260228T034718Z
UID:10004337-1781884800-1781899200@wisconsinmotorevents.com
SUMMARY:Custom Car & Bike Night - Milwaukee
DESCRIPTION:
URL:https://wisconsinmotorevents.com/event/custom-car-bike-night-milwaukee/2026-06-19/
LOCATION:Harley-Davidson Museum\, 400 W Canal St\, Milwaukee\, 53203\, United States
CATEGORIES:Car Night,Motorcycle Night
ATTACH;FMTTYPE=image/jpeg:https://wisconsinmotorevents.com/wp-content/uploads/2026/02/harley-car-night.jpg
END:VEVENT
BEGIN:VEVENT
DTSTART;TZID=America/Chicago:20260626T160000
DTEND;TZID=America/Chicago:20260626T200000
DTSTAMP:20260422T022605
CREATED:20260228T034718Z
LAST-MODIFIED:20260228T034718Z
UID:10004338-1782489600-1782504000@wisconsinmotorevents.com
SUMMARY:Custom Car & Bike Night - Milwaukee
DESCRIPTION:
URL:https://wisconsinmotorevents.com/event/custom-car-bike-night-milwaukee/2026-06-26/
LOCATION:Harley-Davidson Museum\, 400 W Canal St\, Milwaukee\, 53203\, United States
CATEGORIES:Car Night,Motorcycle Night
ATTACH;FMTTYPE=image/jpeg:https://wisconsinmotorevents.com/wp-content/uploads/2026/02/harley-car-night.jpg
END:VEVENT
BEGIN:VEVENT
DTSTART;TZID=America/Chicago:20260630T080000
DTEND;TZID=America/Chicago:20260630T170000
DTSTAMP:20260422T022605
CREATED:20250907T213227Z
LAST-MODIFIED:20250907T213227Z
UID:10003741-1782806400-1782838800@wisconsinmotorevents.com
SUMMARY:Hot Rod Tuesday - Beaver Dam
DESCRIPTION:Events from 5pm – 8pm
URL:https://wisconsinmotorevents.com/event/hot-rod-tuesday-beaver-dam/2026-06-30/
LOCATION:Tanya’s Leipsic Tavern\, N5683 Co Rd G\, Beaver Dam\, 53916\, United States
CATEGORIES:Car Night
ATTACH;FMTTYPE=image/jpeg:https://wisconsinmotorevents.com/wp-content/uploads/2025/09/hrt.jpg
END:VEVENT
END:VCALENDAR