BEGIN:VCALENDAR
VERSION:2.0
PRODID:-//Wisconsin Motor Events - ECPv6.15.20//NONSGML v1.0//EN
CALSCALE:GREGORIAN
METHOD:PUBLISH
X-ORIGINAL-URL:https://wisconsinmotorevents.com
X-WR-CALDESC:Events for Wisconsin Motor Events
REFRESH-INTERVAL;VALUE=DURATION:PT1H
X-Robots-Tag:noindex
X-PUBLISHED-TTL:PT1H
BEGIN:VTIMEZONE
TZID:America/Chicago
BEGIN:DAYLIGHT
TZOFFSETFROM:-0600
TZOFFSETTO:-0500
TZNAME:CDT
DTSTART:20250309T080000
END:DAYLIGHT
BEGIN:STANDARD
TZOFFSETFROM:-0500
TZOFFSETTO:-0600
TZNAME:CST
DTSTART:20251102T070000
END:STANDARD
BEGIN:DAYLIGHT
TZOFFSETFROM:-0600
TZOFFSETTO:-0500
TZNAME:CDT
DTSTART:20260308T080000
END:DAYLIGHT
BEGIN:STANDARD
TZOFFSETFROM:-0500
TZOFFSETTO:-0600
TZNAME:CST
DTSTART:20261101T070000
END:STANDARD
BEGIN:DAYLIGHT
TZOFFSETFROM:-0600
TZOFFSETTO:-0500
TZNAME:CDT
DTSTART:20270314T080000
END:DAYLIGHT
BEGIN:STANDARD
TZOFFSETFROM:-0500
TZOFFSETTO:-0600
TZNAME:CST
DTSTART:20271107T070000
END:STANDARD
END:VTIMEZONE
BEGIN:VEVENT
DTSTART;TZID=America/Chicago:20260811T080000
DTEND;TZID=America/Chicago:20260811T170000
DTSTAMP:20260423T041012
CREATED:20250907T213227Z
LAST-MODIFIED:20250907T213227Z
UID:10003744-1786435200-1786467600@wisconsinmotorevents.com
SUMMARY:Hot Rod Tuesday - Beaver Dam
DESCRIPTION:Events from 5pm – 8pm
URL:https://wisconsinmotorevents.com/event/hot-rod-tuesday-beaver-dam/2026-08-11/
LOCATION:Tanya’s Leipsic Tavern\, N5683 Co Rd G\, Beaver Dam\, 53916\, United States
CATEGORIES:Car Night
ATTACH;FMTTYPE=image/jpeg:https://wisconsinmotorevents.com/wp-content/uploads/2025/09/hrt.jpg
END:VEVENT
BEGIN:VEVENT
DTSTART;TZID=America/Chicago:20260813T173000
DTEND;TZID=America/Chicago:20260813T203000
DTSTAMP:20260423T041012
CREATED:20260413T221024Z
LAST-MODIFIED:20260413T221024Z
UID:10004774-1786642200-1786653000@wisconsinmotorevents.com
SUMMARY:Octane & Iron - Menomonie
DESCRIPTION:Every other Thursday 5:30-8:30
URL:https://wisconsinmotorevents.com/event/octane-iron-menomonie/2026-08-13/
LOCATION:Taco John’s Menomonie\, 1526 N Broadway St\, Menomonie\, United States
CATEGORIES:Car Night
ATTACH;FMTTYPE=image/jpeg:https://wisconsinmotorevents.com/wp-content/uploads/2026/04/octane.jpg
END:VEVENT
BEGIN:VEVENT
DTSTART;TZID=America/Chicago:20260814T160000
DTEND;TZID=America/Chicago:20260814T200000
DTSTAMP:20260423T041012
CREATED:20260228T034718Z
LAST-MODIFIED:20260228T034718Z
UID:10004345-1786723200-1786737600@wisconsinmotorevents.com
SUMMARY:Custom Car & Bike Night - Milwaukee
DESCRIPTION:
URL:https://wisconsinmotorevents.com/event/custom-car-bike-night-milwaukee/2026-08-14/
LOCATION:Harley-Davidson Museum\, 400 W Canal St\, Milwaukee\, 53203\, United States
CATEGORIES:Car Night,Motorcycle Night
ATTACH;FMTTYPE=image/jpeg:https://wisconsinmotorevents.com/wp-content/uploads/2026/02/harley-car-night.jpg
END:VEVENT
END:VCALENDAR