BEGIN:VCALENDAR
VERSION:2.0
PRODID:-//Wisconsin Motor Events - ECPv6.15.20//NONSGML v1.0//EN
CALSCALE:GREGORIAN
METHOD:PUBLISH
X-WR-CALNAME:Wisconsin Motor Events
X-ORIGINAL-URL:https://wisconsinmotorevents.com
X-WR-CALDESC:Events for Wisconsin Motor Events
REFRESH-INTERVAL;VALUE=DURATION:PT1H
X-Robots-Tag:noindex
X-PUBLISHED-TTL:PT1H
BEGIN:VTIMEZONE
TZID:America/Chicago
BEGIN:DAYLIGHT
TZOFFSETFROM:-0600
TZOFFSETTO:-0500
TZNAME:CDT
DTSTART:20250309T080000
END:DAYLIGHT
BEGIN:STANDARD
TZOFFSETFROM:-0500
TZOFFSETTO:-0600
TZNAME:CST
DTSTART:20251102T070000
END:STANDARD
BEGIN:DAYLIGHT
TZOFFSETFROM:-0600
TZOFFSETTO:-0500
TZNAME:CDT
DTSTART:20260308T080000
END:DAYLIGHT
BEGIN:STANDARD
TZOFFSETFROM:-0500
TZOFFSETTO:-0600
TZNAME:CST
DTSTART:20261101T070000
END:STANDARD
BEGIN:DAYLIGHT
TZOFFSETFROM:-0600
TZOFFSETTO:-0500
TZNAME:CDT
DTSTART:20270314T080000
END:DAYLIGHT
BEGIN:STANDARD
TZOFFSETFROM:-0500
TZOFFSETTO:-0600
TZNAME:CST
DTSTART:20271107T070000
END:STANDARD
END:VTIMEZONE
BEGIN:VEVENT
DTSTART;TZID=America/Chicago:20260515T070000
DTEND;TZID=America/Chicago:20260515T090000
DTSTAMP:20260419T190905
CREATED:20260217T225758Z
LAST-MODIFIED:20260217T225758Z
UID:10004189-1778828400-1778835600@wisconsinmotorevents.com
SUMMARY:Shift n Shine - Cottage Grove
DESCRIPTION:
URL:https://wisconsinmotorevents.com/event/shift-n-shine-cottage-grove/2026-05-15/
LOCATION:Friends of McCarthy Youth and Conservation Park\, 4841 County Road TT\, Cottage Grove\, United States
CATEGORIES:Cars and Coffee
ATTACH;FMTTYPE=image/jpeg:https://wisconsinmotorevents.com/wp-content/uploads/2026/02/shift-shine.jpg
END:VEVENT
BEGIN:VEVENT
DTSTART;TZID=America/Chicago:20260517T110000
DTEND;TZID=America/Chicago:20260517T130000
DTSTAMP:20260419T190905
CREATED:20260419T172257Z
LAST-MODIFIED:20260419T172257Z
UID:10004845-1779015600-1779022800@wisconsinmotorevents.com
SUMMARY:Cars and Coffee - Wisconsin Dells - 5/17/2026
DESCRIPTION:During Automotion weekend
URL:https://wisconsinmotorevents.com/event/cars-and-coffee-wisconsin-dells-5-17-2026/
LOCATION:Bella Goose Coffee – Wisconsin Dells\, 2370 US-12\, Wisconsin Dells
CATEGORIES:Cars and Coffee
END:VEVENT
BEGIN:VEVENT
DTSTART;TZID=America/Chicago:20260521T170000
DTEND;TZID=America/Chicago:20260521T200000
DTSTAMP:20260419T190905
CREATED:20260321T144303Z
LAST-MODIFIED:20260321T144303Z
UID:10004571-1779382800-1779393600@wisconsinmotorevents.com
SUMMARY:Pistons & Pepperoni - Appleton
DESCRIPTION:3rd THursday of the month April-September
URL:https://wisconsinmotorevents.com/event/pistons-pepperoni-appleton/2026-05-21/
LOCATION:Marco’s Pizza – Appleton\, 2700 E Calumet Street\, Appleton
CATEGORIES:Cars and Coffee
ATTACH;FMTTYPE=image/jpeg:https://wisconsinmotorevents.com/wp-content/uploads/2026/03/pepper.jpg
END:VEVENT
BEGIN:VEVENT
DTSTART;TZID=America/Chicago:20260522T070000
DTEND;TZID=America/Chicago:20260522T090000
DTSTAMP:20260419T190905
CREATED:20260217T225758Z
LAST-MODIFIED:20260217T225758Z
UID:10004190-1779433200-1779440400@wisconsinmotorevents.com
SUMMARY:Shift n Shine - Cottage Grove
DESCRIPTION:
URL:https://wisconsinmotorevents.com/event/shift-n-shine-cottage-grove/2026-05-22/
LOCATION:Friends of McCarthy Youth and Conservation Park\, 4841 County Road TT\, Cottage Grove\, United States
CATEGORIES:Cars and Coffee
ATTACH;FMTTYPE=image/jpeg:https://wisconsinmotorevents.com/wp-content/uploads/2026/02/shift-shine.jpg
END:VEVENT
BEGIN:VEVENT
DTSTART;TZID=America/Chicago:20260523T083000
DTEND;TZID=America/Chicago:20260523T120000
DTSTAMP:20260419T190905
CREATED:20260329T172211Z
LAST-MODIFIED:20260329T172211Z
UID:10004627-1779525000-1779537600@wisconsinmotorevents.com
SUMMARY:Cars and Coffee - Sheboygan Falls - 5/23/2026
DESCRIPTION:
URL:https://wisconsinmotorevents.com/event/cars-and-coffee-sheboygan-falls-5-23-2026/
LOCATION:Falls Uptown Motors – Sheboygan Falls\, 1049 Fond du Lac Ave\, Sheboygan Falls\, United States
CATEGORIES:Cars and Coffee
ATTACH;FMTTYPE=image/jpeg:https://wisconsinmotorevents.com/wp-content/uploads/2026/03/falls-uptown.jpg
END:VEVENT
BEGIN:VEVENT
DTSTART;TZID=America/Chicago:20260524T080000
DTEND;TZID=America/Chicago:20260524T110000
DTSTAMP:20260419T190905
CREATED:20260409T181709Z
LAST-MODIFIED:20260409T181709Z
UID:10004724-1779609600-1779620400@wisconsinmotorevents.com
SUMMARY:Alonso & Peter's Cars & Coffee - Portage
DESCRIPTION:
URL:https://wisconsinmotorevents.com/event/alonso-peters-cars-coffee-portage/2026-05-24/
LOCATION:La Tolteca Authentic Mexican Cuisine – Portage\, 2756 New Pinery Rd\, Portage\, WI\, United States
CATEGORIES:Cars and Coffee
ATTACH;FMTTYPE=image/jpeg:https://wisconsinmotorevents.com/wp-content/uploads/2026/04/alonso.jpg
END:VEVENT
BEGIN:VEVENT
DTSTART;TZID=America/Chicago:20260524T110000
DTEND;TZID=America/Chicago:20260524T140000
DTSTAMP:20260419T190905
CREATED:20260217T231040Z
LAST-MODIFIED:20260217T231040Z
UID:10004216-1779620400-1779631200@wisconsinmotorevents.com
SUMMARY:Road AMerica Plates Day - Muskego - 5/24/2026
DESCRIPTION:
URL:https://wisconsinmotorevents.com/event/road-america-plates-day-muskego-5-24-2026/
LOCATION:Eagle Park Brewing Company – Muskego\, S64 W15640 Commerce Center Pkwy\, Muskego\, United States
CATEGORIES:Cars and Coffee
END:VEVENT
BEGIN:VEVENT
DTSTART;TZID=America/Chicago:20260526T170000
DTEND;TZID=America/Chicago:20260526T200000
DTSTAMP:20260419T190905
CREATED:20260206T204257Z
LAST-MODIFIED:20260206T204257Z
UID:10004144-1779814800-1779825600@wisconsinmotorevents.com
SUMMARY:Eagle Park Beers and Gears - Muskego
DESCRIPTION:2nd and 4th Tuesday from May thru October \n5pm to taproom close \nEnding with Trunk or Treat on Oct. 27.
URL:https://wisconsinmotorevents.com/event/eagle-park-beers-and-gears-muskego/2026-05-26/
LOCATION:Eagle Park Brewing Company – Muskego\, S64 W15640 Commerce Center Pkwy\, Muskego\, United States
CATEGORIES:Cars and Coffee
END:VEVENT
BEGIN:VEVENT
DTSTART;TZID=America/Chicago:20260529T070000
DTEND;TZID=America/Chicago:20260529T090000
DTSTAMP:20260419T190905
CREATED:20260217T225758Z
LAST-MODIFIED:20260217T225758Z
UID:10004191-1780038000-1780045200@wisconsinmotorevents.com
SUMMARY:Shift n Shine - Cottage Grove
DESCRIPTION:
URL:https://wisconsinmotorevents.com/event/shift-n-shine-cottage-grove/2026-05-29/
LOCATION:Friends of McCarthy Youth and Conservation Park\, 4841 County Road TT\, Cottage Grove\, United States
CATEGORIES:Cars and Coffee
ATTACH;FMTTYPE=image/jpeg:https://wisconsinmotorevents.com/wp-content/uploads/2026/02/shift-shine.jpg
END:VEVENT
BEGIN:VEVENT
DTSTART;TZID=America/Chicago:20260530T200000
DTEND;TZID=America/Chicago:20260530T220000
DTSTAMP:20260419T190905
CREATED:20260309T155807Z
LAST-MODIFIED:20260309T155807Z
UID:10004446-1780171200-1780178400@wisconsinmotorevents.com
SUMMARY:Cars & Coffee Night - Milwaukee
DESCRIPTION:
URL:https://wisconsinmotorevents.com/event/cars-coffee-night-milwaukee/2026-05-30/
LOCATION:McKinley Marina – Milwaukee\, 1750 N Lincoln Memorial Dr\, Milwaukee\, 53202\, United States
CATEGORIES:Cars and Coffee
ATTACH;FMTTYPE=image/jpeg:https://wisconsinmotorevents.com/wp-content/uploads/2026/03/mke-cc.jpg
END:VEVENT
BEGIN:VEVENT
DTSTART;TZID=America/Chicago:20260531T073000
DTEND;TZID=America/Chicago:20260531T120000
DTSTAMP:20260419T190905
CREATED:20260217T222733Z
LAST-MODIFIED:20260217T222733Z
UID:10004166-1780212600-1780228800@wisconsinmotorevents.com
SUMMARY:Cars and Coffee - Madison - 5/31/2026
DESCRIPTION:
URL:https://wisconsinmotorevents.com/event/cars-and-coffee-madison-5-31-2026/
LOCATION:Crema Cafe – Madison\, 4124 Monona Drive\, Madison\, 53716\, United States
CATEGORIES:Cars and Coffee
ATTACH;FMTTYPE=image/jpeg:https://wisconsinmotorevents.com/wp-content/uploads/2026/02/crema.jpg
END:VEVENT
BEGIN:VEVENT
DTSTART;TZID=America/Chicago:20260531T090000
DTEND;TZID=America/Chicago:20260531T120000
DTSTAMP:20260419T190905
CREATED:20260309T155934Z
LAST-MODIFIED:20260309T160203Z
UID:10004452-1780218000-1780228800@wisconsinmotorevents.com
SUMMARY:Cars & Coffee Morning - Milwaukee
DESCRIPTION:
URL:https://wisconsinmotorevents.com/event/cars-coffee-morning-milwaukee/2026-05-31/
LOCATION:McKinley Marina – Milwaukee\, 1750 N Lincoln Memorial Dr\, Milwaukee\, 53202\, United States
CATEGORIES:Cars and Coffee
ATTACH;FMTTYPE=image/jpeg:https://wisconsinmotorevents.com/wp-content/uploads/2026/03/mke-cc.jpg
END:VEVENT
BEGIN:VEVENT
DTSTART;TZID=America/Chicago:20260531T100000
DTEND;TZID=America/Chicago:20260531T120000
DTSTAMP:20260419T190905
CREATED:20260217T225001Z
LAST-MODIFIED:20260217T225001Z
UID:10004174-1780221600-1780228800@wisconsinmotorevents.com
SUMMARY:Model Cars and Coffee - Deforest - 5/31/2026
DESCRIPTION:Scale cars and big cars
URL:https://wisconsinmotorevents.com/event/model-cars-and-coffee-deforest-5-31-2026/
LOCATION:Village of Windsor Community Park\, 6570 Pederson Crossing Blvd\, Deforest\, United States
CATEGORIES:Cars and Coffee
END:VEVENT
BEGIN:VEVENT
DTSTART;TZID=America/Chicago:20260605T070000
DTEND;TZID=America/Chicago:20260605T090000
DTSTAMP:20260419T190905
CREATED:20260217T225758Z
LAST-MODIFIED:20260217T225758Z
UID:10004192-1780642800-1780650000@wisconsinmotorevents.com
SUMMARY:Shift n Shine - Cottage Grove
DESCRIPTION:
URL:https://wisconsinmotorevents.com/event/shift-n-shine-cottage-grove/2026-06-05/
LOCATION:Friends of McCarthy Youth and Conservation Park\, 4841 County Road TT\, Cottage Grove\, United States
CATEGORIES:Cars and Coffee
ATTACH;FMTTYPE=image/jpeg:https://wisconsinmotorevents.com/wp-content/uploads/2026/02/shift-shine.jpg
END:VEVENT
BEGIN:VEVENT
DTSTART;TZID=America/Chicago:20260605T080000
DTEND;TZID=America/Chicago:20260605T170000
DTSTAMP:20260419T190905
CREATED:20260109T005853Z
LAST-MODIFIED:20260112T233051Z
UID:10004084-1780646400-1780678800@wisconsinmotorevents.com
SUMMARY:First Friday Classics - Menasha
DESCRIPTION:
URL:https://wisconsinmotorevents.com/event/first-friday-classics-menasha/2026-06-05/
LOCATION:Chicago’s Hose of Hoagies – Menasha\, 1089 Racine Rd\, Menasha\, 54952\, United States
CATEGORIES:Cars and Coffee
ATTACH;FMTTYPE=image/jpeg:https://wisconsinmotorevents.com/wp-content/uploads/2026/01/chicago.jpg
END:VEVENT
BEGIN:VEVENT
DTSTART;TZID=America/Chicago:20260606T090000
DTEND;TZID=America/Chicago:20260606T120000
DTSTAMP:20260419T190905
CREATED:20260409T151139Z
LAST-MODIFIED:20260409T151139Z
UID:10004687-1780736400-1780747200@wisconsinmotorevents.com
SUMMARY:Caliber Collision Car & Coffee - Waukesha - 6/6/2026
DESCRIPTION:
URL:https://wisconsinmotorevents.com/event/caliber-collision-car-coffee-waukesha-6-6-2026/
LOCATION:Caliber Collision – Waukesha\, W229 N2591 Duplainville Rd\, Waukesha\, United States
CATEGORIES:Cars and Coffee
ATTACH;FMTTYPE=image/jpeg:https://wisconsinmotorevents.com/wp-content/uploads/2026/04/caliber.jpg
END:VEVENT
BEGIN:VEVENT
DTSTART;TZID=America/Chicago:20260607T080000
DTEND;TZID=America/Chicago:20260607T110000
DTSTAMP:20260419T190905
CREATED:20251102T233424Z
LAST-MODIFIED:20251102T233424Z
UID:10003903-1780819200-1780830000@wisconsinmotorevents.com
SUMMARY:Dam Cars & Coffee - Beaver Dam
DESCRIPTION:
URL:https://wisconsinmotorevents.com/event/dam-cars-coffee-beaver-dam/2026-06-07/
LOCATION:Hometown Glass & Improvement\, N7171 Raceway Rd\, Beaver Dam\, United States
CATEGORIES:Cars and Coffee
ATTACH;FMTTYPE=image/jpeg:https://wisconsinmotorevents.com/wp-content/uploads/2025/11/dam-cac.jpg
END:VEVENT
BEGIN:VEVENT
DTSTART;TZID=America/Chicago:20260607T080000
DTEND;TZID=America/Chicago:20260607T120000
DTSTAMP:20260419T190905
CREATED:20260413T230533Z
LAST-MODIFIED:20260413T230533Z
UID:10004781-1780819200-1780833600@wisconsinmotorevents.com
SUMMARY:Greendale Cars & Coffee
DESCRIPTION:First Sunday of the month May-October\n8am-Noon \nMay 3rd\nJune 7th\nJuly 5th\nAug 2nd\nSept 6th\nOct 4th
URL:https://wisconsinmotorevents.com/event/greendale-cars-coffee/2026-06-07/
LOCATION:Downtown Greendale\, 5635 Broad St\, Greendale\, United States
CATEGORIES:Cars and Coffee
END:VEVENT
BEGIN:VEVENT
DTSTART;TZID=America/Chicago:20260607T090000
DTEND;TZID=America/Chicago:20260607T110000
DTSTAMP:20260419T190905
CREATED:20260409T181126Z
LAST-MODIFIED:20260409T181126Z
UID:10004719-1780822800-1780830000@wisconsinmotorevents.com
SUMMARY:Cars and Coffee - Reedsburg
DESCRIPTION:April 19th and every first Sunday until October
URL:https://wisconsinmotorevents.com/event/cars-and-coffee-reedsburg/2026-06-07/
LOCATION:Voyager Inn – Reedsburg\, 200 Viking Drive\, Reedsburg
CATEGORIES:Cars and Coffee
ATTACH;FMTTYPE=image/jpeg:https://wisconsinmotorevents.com/wp-content/uploads/2026/04/reedsburg.jpg
END:VEVENT
BEGIN:VEVENT
DTSTART;TZID=America/Chicago:20260607T090000
DTEND;TZID=America/Chicago:20260607T120000
DTSTAMP:20260419T190905
CREATED:20260217T225411Z
LAST-MODIFIED:20260217T225411Z
UID:10004176-1780822800-1780833600@wisconsinmotorevents.com
SUMMARY:DeForest Cars and Coffee
DESCRIPTION:
URL:https://wisconsinmotorevents.com/event/deforest-cars-and-coffee/2026-06-07/
LOCATION:DeForest Library\, 203 Library St\, DeForest\, United States
CATEGORIES:Cars and Coffee
ATTACH;FMTTYPE=image/jpeg:https://wisconsinmotorevents.com/wp-content/uploads/2026/02/deforest-coffee.jpg
END:VEVENT
BEGIN:VEVENT
DTSTART;TZID=America/Chicago:20260607T090000
DTEND;TZID=America/Chicago:20260607T120000
DTSTAMP:20260419T190905
CREATED:20260419T150956Z
LAST-MODIFIED:20260419T151048Z
UID:10004837-1780822800-1780833600@wisconsinmotorevents.com
SUMMARY:Cars Croissants & Coffee - Delafield
DESCRIPTION:417 Main St Delafield\, WI 53018\n9:00AM – 12:00 PM\nJune 7th\nJuly12th\nAugust 9th
URL:https://wisconsinmotorevents.com/event/cars-croissants-coffee-delafield/2026-06-07/
LOCATION:Delafield Fish Hathchery\, 417 Main St\, Delafield\, United States
CATEGORIES:Cars and Coffee
ATTACH;FMTTYPE=image/jpeg:https://wisconsinmotorevents.com/wp-content/uploads/2026/04/croissant.jpg
END:VEVENT
BEGIN:VEVENT
DTSTART;TZID=America/Chicago:20260609T170000
DTEND;TZID=America/Chicago:20260609T200000
DTSTAMP:20260419T190905
CREATED:20260206T204257Z
LAST-MODIFIED:20260206T204257Z
UID:10004145-1781024400-1781035200@wisconsinmotorevents.com
SUMMARY:Eagle Park Beers and Gears - Muskego
DESCRIPTION:2nd and 4th Tuesday from May thru October \n5pm to taproom close \nEnding with Trunk or Treat on Oct. 27.
URL:https://wisconsinmotorevents.com/event/eagle-park-beers-and-gears-muskego/2026-06-09/
LOCATION:Eagle Park Brewing Company – Muskego\, S64 W15640 Commerce Center Pkwy\, Muskego\, United States
CATEGORIES:Cars and Coffee
END:VEVENT
BEGIN:VEVENT
DTSTART;TZID=America/Chicago:20260612T070000
DTEND;TZID=America/Chicago:20260612T090000
DTSTAMP:20260419T190905
CREATED:20260217T225758Z
LAST-MODIFIED:20260217T225758Z
UID:10004193-1781247600-1781254800@wisconsinmotorevents.com
SUMMARY:Shift n Shine - Cottage Grove
DESCRIPTION:
URL:https://wisconsinmotorevents.com/event/shift-n-shine-cottage-grove/2026-06-12/
LOCATION:Friends of McCarthy Youth and Conservation Park\, 4841 County Road TT\, Cottage Grove\, United States
CATEGORIES:Cars and Coffee
ATTACH;FMTTYPE=image/jpeg:https://wisconsinmotorevents.com/wp-content/uploads/2026/02/shift-shine.jpg
END:VEVENT
BEGIN:VEVENT
DTSTART;TZID=America/Chicago:20260613T060000
DTEND;TZID=America/Chicago:20260613T100000
DTSTAMP:20260419T190905
CREATED:20260131T032231Z
LAST-MODIFIED:20260329T203210Z
UID:10004129-1781330400-1781344800@wisconsinmotorevents.com
SUMMARY:Fox Cities Cars and Coffee - Appleton
DESCRIPTION:April 4th – rescheduled to April 25th
URL:https://wisconsinmotorevents.com/event/fox-cities-cars-and-coffee-appleton/2026-06-13/
LOCATION:Uncle Mike’s Appleton\, 3860 W Wisconsin Ave\, Appleton\, United States
CATEGORIES:Cars and Coffee
ATTACH;FMTTYPE=image/jpeg:https://wisconsinmotorevents.com/wp-content/uploads/2026/01/mikes.jpg
END:VEVENT
BEGIN:VEVENT
DTSTART;TZID=America/Chicago:20260613T080000
DTEND;TZID=America/Chicago:20260613T110000
DTSTAMP:20260419T190905
CREATED:20260228T201348Z
LAST-MODIFIED:20260228T201348Z
UID:10004373-1781337600-1781348400@wisconsinmotorevents.com
SUMMARY:Throttlestop Cars & Coffee - Elkhart Lake
DESCRIPTION:
URL:https://wisconsinmotorevents.com/event/throttlestop-cars-coffee-elkhart-lake/2026-06-13/
LOCATION:The Throttlestop\, 20 Victory Lane\, Elkhart Lake\, 53020\, United States
CATEGORIES:Cars and Coffee
ATTACH;FMTTYPE=image/jpeg:https://wisconsinmotorevents.com/wp-content/uploads/2026/02/throttle.jpg
END:VEVENT
BEGIN:VEVENT
DTSTART;TZID=America/Chicago:20260613T080000
DTEND;TZID=America/Chicago:20260613T223000
DTSTAMP:20260419T190905
CREATED:20260413T170500Z
LAST-MODIFIED:20260413T170500Z
UID:10004749-1781337600-1781389800@wisconsinmotorevents.com
SUMMARY:Schlossman's Cars & Coffee MKE - Milwaukee
DESCRIPTION:
URL:https://wisconsinmotorevents.com/event/schlossmans-cars-coffee-mke-milwaukee/2026-06-13/
LOCATION:Schlossmann’s Honda City\, 3450 S 108th St\, Milwaukee\, 53227\, United States
CATEGORIES:Cars and Coffee
ATTACH;FMTTYPE=image/jpeg:https://wisconsinmotorevents.com/wp-content/uploads/2026/04/schloss.jpg
END:VEVENT
BEGIN:VEVENT
DTSTART;TZID=America/Chicago:20260613T090000
DTEND;TZID=America/Chicago:20260613T120000
DTSTAMP:20260419T190905
CREATED:20260301T023214Z
LAST-MODIFIED:20260301T023214Z
UID:10004386-1781341200-1781352000@wisconsinmotorevents.com
SUMMARY:920 Cars and Coffee - Suamico
DESCRIPTION:Second Saturday May through October
URL:https://wisconsinmotorevents.com/event/920-cars-and-coffee-suamico/2026-06-13/
LOCATION:Woodfield Court Motor Condos\, 2096 E Deerfield Ave\, Suamico\, 54313\, United States
CATEGORIES:Cars and Coffee
END:VEVENT
BEGIN:VEVENT
DTSTART;TZID=America/Chicago:20260614T100000
DTEND;TZID=America/Chicago:20260614T130000
DTSTAMP:20260419T190905
CREATED:20260419T141253Z
LAST-MODIFIED:20260419T141253Z
UID:10004824-1781431200-1781442000@wisconsinmotorevents.com
SUMMARY:Onalaska Cars N Coffee - 6/14/2026
DESCRIPTION:
URL:https://wisconsinmotorevents.com/event/onalaska-cars-n-coffee-6-14-2026/
LOCATION:Onalaska Marine Credit Union\, 1848 East Main St\, Onalaska
CATEGORIES:Cars and Coffee
ATTACH;FMTTYPE=image/jpeg:https://wisconsinmotorevents.com/wp-content/uploads/2026/04/onalaska.jpg
END:VEVENT
BEGIN:VEVENT
DTSTART;TZID=America/Chicago:20260618T170000
DTEND;TZID=America/Chicago:20260618T200000
DTSTAMP:20260419T190905
CREATED:20260321T144303Z
LAST-MODIFIED:20260321T144303Z
UID:10004572-1781802000-1781812800@wisconsinmotorevents.com
SUMMARY:Pistons & Pepperoni - Appleton
DESCRIPTION:3rd THursday of the month April-September
URL:https://wisconsinmotorevents.com/event/pistons-pepperoni-appleton/2026-06-18/
LOCATION:Marco’s Pizza – Appleton\, 2700 E Calumet Street\, Appleton
CATEGORIES:Cars and Coffee
ATTACH;FMTTYPE=image/jpeg:https://wisconsinmotorevents.com/wp-content/uploads/2026/03/pepper.jpg
END:VEVENT
BEGIN:VEVENT
DTSTART;TZID=America/Chicago:20260619T070000
DTEND;TZID=America/Chicago:20260619T090000
DTSTAMP:20260419T190905
CREATED:20260217T225758Z
LAST-MODIFIED:20260217T225758Z
UID:10004194-1781852400-1781859600@wisconsinmotorevents.com
SUMMARY:Shift n Shine - Cottage Grove
DESCRIPTION:
URL:https://wisconsinmotorevents.com/event/shift-n-shine-cottage-grove/2026-06-19/
LOCATION:Friends of McCarthy Youth and Conservation Park\, 4841 County Road TT\, Cottage Grove\, United States
CATEGORIES:Cars and Coffee
ATTACH;FMTTYPE=image/jpeg:https://wisconsinmotorevents.com/wp-content/uploads/2026/02/shift-shine.jpg
END:VEVENT
END:VCALENDAR