BEGIN:VCALENDAR
VERSION:2.0
PRODID:-//Wisconsin Motor Events - ECPv6.15.20//NONSGML v1.0//EN
CALSCALE:GREGORIAN
METHOD:PUBLISH
X-ORIGINAL-URL:https://wisconsinmotorevents.com
X-WR-CALDESC:Events for Wisconsin Motor Events
REFRESH-INTERVAL;VALUE=DURATION:PT1H
X-Robots-Tag:noindex
X-PUBLISHED-TTL:PT1H
BEGIN:VTIMEZONE
TZID:America/Chicago
BEGIN:DAYLIGHT
TZOFFSETFROM:-0600
TZOFFSETTO:-0500
TZNAME:CDT
DTSTART:20250309T080000
END:DAYLIGHT
BEGIN:STANDARD
TZOFFSETFROM:-0500
TZOFFSETTO:-0600
TZNAME:CST
DTSTART:20251102T070000
END:STANDARD
BEGIN:DAYLIGHT
TZOFFSETFROM:-0600
TZOFFSETTO:-0500
TZNAME:CDT
DTSTART:20260308T080000
END:DAYLIGHT
BEGIN:STANDARD
TZOFFSETFROM:-0500
TZOFFSETTO:-0600
TZNAME:CST
DTSTART:20261101T070000
END:STANDARD
BEGIN:DAYLIGHT
TZOFFSETFROM:-0600
TZOFFSETTO:-0500
TZNAME:CDT
DTSTART:20270314T080000
END:DAYLIGHT
BEGIN:STANDARD
TZOFFSETFROM:-0500
TZOFFSETTO:-0600
TZNAME:CST
DTSTART:20271107T070000
END:STANDARD
END:VTIMEZONE
BEGIN:VEVENT
DTSTART;VALUE=DATE:20260626
DTEND;VALUE=DATE:20260628
DTSTAMP:20260423T215740
CREATED:20260302T021142Z
LAST-MODIFIED:20260302T021142Z
UID:10004402-1782432000-1782604799@wisconsinmotorevents.com
SUMMARY:Out-A-Sight Drags - Union Grove - 6/26 & 6/27/2026
DESCRIPTION:Friday 10am-8pm \nSaturday 9am-8pm
URL:https://wisconsinmotorevents.com/event/out-a-sight-drags-union-grove-6-26-6-27-2026/
LOCATION:Great Lakes Dragaway\, 18411 1st Street\, Union Grove\, 53182\, United States
CATEGORIES:Car Show,Drag Racing,Swap Meet
ATTACH;FMTTYPE=image/jpeg:https://wisconsinmotorevents.com/wp-content/uploads/2026/03/sight.jpg
END:VEVENT
END:VCALENDAR