BEGIN:VCALENDAR
VERSION:2.0
PRODID:-//Wisconsin Motor Events - ECPv6.15.20//NONSGML v1.0//EN
CALSCALE:GREGORIAN
METHOD:PUBLISH
X-ORIGINAL-URL:https://wisconsinmotorevents.com
X-WR-CALDESC:Events for Wisconsin Motor Events
REFRESH-INTERVAL;VALUE=DURATION:PT1H
X-Robots-Tag:noindex
X-PUBLISHED-TTL:PT1H
BEGIN:VTIMEZONE
TZID:America/Chicago
BEGIN:DAYLIGHT
TZOFFSETFROM:-0600
TZOFFSETTO:-0500
TZNAME:CDT
DTSTART:20250309T080000
END:DAYLIGHT
BEGIN:STANDARD
TZOFFSETFROM:-0500
TZOFFSETTO:-0600
TZNAME:CST
DTSTART:20251102T070000
END:STANDARD
BEGIN:DAYLIGHT
TZOFFSETFROM:-0600
TZOFFSETTO:-0500
TZNAME:CDT
DTSTART:20260308T080000
END:DAYLIGHT
BEGIN:STANDARD
TZOFFSETFROM:-0500
TZOFFSETTO:-0600
TZNAME:CST
DTSTART:20261101T070000
END:STANDARD
BEGIN:DAYLIGHT
TZOFFSETFROM:-0600
TZOFFSETTO:-0500
TZNAME:CDT
DTSTART:20270314T080000
END:DAYLIGHT
BEGIN:STANDARD
TZOFFSETFROM:-0500
TZOFFSETTO:-0600
TZNAME:CST
DTSTART:20271107T070000
END:STANDARD
END:VTIMEZONE
BEGIN:VEVENT
DTSTART;TZID=America/Chicago:20260503T080000
DTEND;TZID=America/Chicago:20260503T143000
DTSTAMP:20260422T165752
CREATED:20260409T185728Z
LAST-MODIFIED:20260409T185728Z
UID:10004734-1777795200-1777818600@wisconsinmotorevents.com
SUMMARY:Cheaters Spring Swap Meet - Franklin - 5/3/2026
DESCRIPTION:
URL:https://wisconsinmotorevents.com/event/cheaters-spring-swap-meet-franklin-5-3-2026/
LOCATION:Franklin Automotive\, 3012 W Ryan Rd\, Franklin\, United States
CATEGORIES:Swap Meet
END:VEVENT
BEGIN:VEVENT
DTSTART;TZID=America/Chicago:20260509T070000
DTEND;TZID=America/Chicago:20260509T130000
DTSTAMP:20260422T165752
CREATED:20260412T020459Z
LAST-MODIFIED:20260412T020459Z
UID:10004743-1778310000-1778331600@wisconsinmotorevents.com
SUMMARY:Apparitions Bike & Car Show & Swap Meet - Monticello - 5/9/2026
DESCRIPTION:• Rain or Shine\n• Gates Open at 7:00 a.m.\n• No Charge for Vendors or Visitors\n• Food Truck: Up N Smoke\n• No Entry Fee\n• Judging from Noon to 1:00 p.m.\n• Trophies and Cash for 1st and 2nd Place\n• First 50 Show Vehicles Receive a Dash Plaque
URL:https://wisconsinmotorevents.com/event/apparitions-bike-car-show-swap-meet-monticello-5-9-2026/
LOCATION:Apparitions MC – Monticello\, 6371 Holstein Prairie Rd\, Monticello\, United States
CATEGORIES:Car Show,Motorcycle Show,Swap Meet
ATTACH;FMTTYPE=image/jpeg:https://wisconsinmotorevents.com/wp-content/uploads/2026/04/apparitions.jpg
END:VEVENT
BEGIN:VEVENT
DTSTART;TZID=America/Chicago:20260509T080000
DTEND;TZID=America/Chicago:20260509T120000
DTSTAMP:20260422T165752
CREATED:20251221T162821Z
LAST-MODIFIED:20251221T162821Z
UID:10004009-1778313600-1778328000@wisconsinmotorevents.com
SUMMARY:FVTC Car/Motorcycle Show & Swap - Appleton - 5/9/26
DESCRIPTION:Registration from 8-10 AM!\nSpectator’s get in for FREE!\nPrices\nRegistration – $10\nSwap meet (15′ x 20′) – $30\n*Must be present to win trophies and raffle\n20 Classes and trophies!\nNow including motorcycles!
URL:https://wisconsinmotorevents.com/event/fvtc-car-motorcycle-show-swap-appleton-5-9-26/
LOCATION:Fox Valley Tech College Transportation Center\, 1825 N Bluemound Dr\, Appleton\, United States
CATEGORIES:Car Show,Motorcycle Show,Swap Meet
ATTACH;FMTTYPE=image/jpeg:https://wisconsinmotorevents.com/wp-content/uploads/2025/12/FVTC.jpg
END:VEVENT
END:VCALENDAR