BEGIN:VCALENDAR
VERSION:2.0
PRODID:-//Wisconsin Motor Events - ECPv6.15.20//NONSGML v1.0//EN
CALSCALE:GREGORIAN
METHOD:PUBLISH
X-ORIGINAL-URL:https://wisconsinmotorevents.com
X-WR-CALDESC:Events for Wisconsin Motor Events
REFRESH-INTERVAL;VALUE=DURATION:PT1H
X-Robots-Tag:noindex
X-PUBLISHED-TTL:PT1H
BEGIN:VTIMEZONE
TZID:America/Chicago
BEGIN:DAYLIGHT
TZOFFSETFROM:-0600
TZOFFSETTO:-0500
TZNAME:CDT
DTSTART:20250309T080000
END:DAYLIGHT
BEGIN:STANDARD
TZOFFSETFROM:-0500
TZOFFSETTO:-0600
TZNAME:CST
DTSTART:20251102T070000
END:STANDARD
BEGIN:DAYLIGHT
TZOFFSETFROM:-0600
TZOFFSETTO:-0500
TZNAME:CDT
DTSTART:20260308T080000
END:DAYLIGHT
BEGIN:STANDARD
TZOFFSETFROM:-0500
TZOFFSETTO:-0600
TZNAME:CST
DTSTART:20261101T070000
END:STANDARD
BEGIN:DAYLIGHT
TZOFFSETFROM:-0600
TZOFFSETTO:-0500
TZNAME:CDT
DTSTART:20270314T080000
END:DAYLIGHT
BEGIN:STANDARD
TZOFFSETFROM:-0500
TZOFFSETTO:-0600
TZNAME:CST
DTSTART:20271107T070000
END:STANDARD
END:VTIMEZONE
BEGIN:VEVENT
DTSTART;TZID=America/Chicago:20260621T073000
DTEND;TZID=America/Chicago:20260621T140000
DTSTAMP:20260420T101243
CREATED:20260309T152337Z
LAST-MODIFIED:20260309T152337Z
UID:10004441-1782027000-1782050400@wisconsinmotorevents.com
SUMMARY:Evening Optimist Father's Day Dar & Truck Show - Fond du Lac - 6/21/2026
DESCRIPTION:$10 per vehicle entry fee
URL:https://wisconsinmotorevents.com/event/evening-optimist-fathers-day-dar-truck-show-fond-du-lac-6-21-2026/
LOCATION:Fond Du Lac Fairgrounds\, 520 Fond Du Lac Ave\, Fond Du Lac\, United States
CATEGORIES:Car Show,Truck Show
ATTACH;FMTTYPE=image/jpeg:https://wisconsinmotorevents.com/wp-content/uploads/2026/03/lac-optimist.jpg
END:VEVENT
BEGIN:VEVENT
DTSTART;TZID=America/Chicago:20260621T090000
DTEND;TZID=America/Chicago:20260621T140000
DTSTAMP:20260420T101244
CREATED:20260419T143414Z
LAST-MODIFIED:20260419T143414Z
UID:10004827-1782032400-1782050400@wisconsinmotorevents.com
SUMMARY:Car Turck & Motorcycle Show - Clayton - 6/21/2026
DESCRIPTION:$10 registration
URL:https://wisconsinmotorevents.com/event/car-turck-motorcycle-show-clayton-6-21-2026/
LOCATION:Charlie’s Place – Clayton\, 123 Prentice Street N\, Clayton
CATEGORIES:Car Show,Motorcycle Show,Truck Show
ATTACH;FMTTYPE=image/jpeg:https://wisconsinmotorevents.com/wp-content/uploads/2026/04/clayton.jpg
END:VEVENT
BEGIN:VEVENT
DTSTART;TZID=America/Chicago:20260626T120000
DTEND;TZID=America/Chicago:20260627T233000
DTSTAMP:20260420T101244
CREATED:20260409T183512Z
LAST-MODIFIED:20260409T183512Z
UID:10004730-1782475200-1782603000@wisconsinmotorevents.com
SUMMARY:Wounded Veterans Truck Show and Convoy - Arcadia - 6/26 & 6/27/2026
DESCRIPTION:Registration: $25 Bobtail/Straight Trucks | $50 Combo (Truck + Trailer)\nAll proceeds benefit Vets\, Fire\, Police & EMS.\nRegister now at woundedvetswi.com
URL:https://wisconsinmotorevents.com/event/wounded-veterans-truck-show-and-convoy-arcadia-6-26-6-27-2026/
LOCATION:Memorial Park – Arcadia\, 549 Memorial Park Drive\, Arcadia\, United States
CATEGORIES:Convoy,Truck Show
END:VEVENT
BEGIN:VEVENT
DTSTART;TZID=America/Chicago:20260627T083000
DTEND;TZID=America/Chicago:20260627T150000
DTSTAMP:20260420T101244
CREATED:20260419T123510Z
LAST-MODIFIED:20260419T123510Z
UID:10004789-1782549000-1782572400@wisconsinmotorevents.com
SUMMARY:Street of Dreams Car Show - Stratford - 6/27/2026
DESCRIPTION:Car\, truck and tractor Show \nStratford Downtown\nCornwer of Legion & Larch Street\nEnter Hwy 97 & Larch \n$15 registration
URL:https://wisconsinmotorevents.com/event/street-of-dreams-car-show-stratford-6-27-2026/
LOCATION:Downtown Stratford\, Legion & Larch Street\, Stratford\, United States
CATEGORIES:Car Show,Tractor Show,Truck Show
ATTACH;FMTTYPE=image/jpeg:https://wisconsinmotorevents.com/wp-content/uploads/2026/04/Street-of-Dreams-Brochure-2026-4.8.26.jpg
END:VEVENT
BEGIN:VEVENT
DTSTART;TZID=America/Chicago:20260627T100000
DTEND;TZID=America/Chicago:20260627T140000
DTSTAMP:20260420T101244
CREATED:20260409T155707Z
LAST-MODIFIED:20260409T155707Z
UID:10004699-1782554400-1782568800@wisconsinmotorevents.com
SUMMARY:Inn Between Car Show - Tony - 6/27/2026
DESCRIPTION:
URL:https://wisconsinmotorevents.com/event/inn-between-car-show-tony-6-27-2026/
LOCATION:The Inn Between – Tony\, N6386 County Road I\, Tony\, United States
CATEGORIES:Car Show,Motorcycle Show,Tractor Show,Truck Show
ATTACH;FMTTYPE=image/jpeg:https://wisconsinmotorevents.com/wp-content/uploads/2026/04/innbetween.jpg
END:VEVENT
END:VCALENDAR