BEGIN:VCALENDAR
VERSION:2.0
PRODID:-//Wisconsin Motor Events - ECPv6.15.20//NONSGML v1.0//EN
CALSCALE:GREGORIAN
METHOD:PUBLISH
X-WR-CALNAME:Wisconsin Motor Events
X-ORIGINAL-URL:https://wisconsinmotorevents.com
X-WR-CALDESC:Events for Wisconsin Motor Events
REFRESH-INTERVAL;VALUE=DURATION:PT1H
X-Robots-Tag:noindex
X-PUBLISHED-TTL:PT1H
BEGIN:VTIMEZONE
TZID:America/Chicago
BEGIN:DAYLIGHT
TZOFFSETFROM:-0600
TZOFFSETTO:-0500
TZNAME:CDT
DTSTART:20250309T080000
END:DAYLIGHT
BEGIN:STANDARD
TZOFFSETFROM:-0500
TZOFFSETTO:-0600
TZNAME:CST
DTSTART:20251102T070000
END:STANDARD
BEGIN:DAYLIGHT
TZOFFSETFROM:-0600
TZOFFSETTO:-0500
TZNAME:CDT
DTSTART:20260308T080000
END:DAYLIGHT
BEGIN:STANDARD
TZOFFSETFROM:-0500
TZOFFSETTO:-0600
TZNAME:CST
DTSTART:20261101T070000
END:STANDARD
BEGIN:DAYLIGHT
TZOFFSETFROM:-0600
TZOFFSETTO:-0500
TZNAME:CDT
DTSTART:20270314T080000
END:DAYLIGHT
BEGIN:STANDARD
TZOFFSETFROM:-0500
TZOFFSETTO:-0600
TZNAME:CST
DTSTART:20271107T070000
END:STANDARD
END:VTIMEZONE
BEGIN:VEVENT
DTSTART;TZID=America/Chicago:20260427T170000
DTEND;TZID=America/Chicago:20260427T200000
DTSTAMP:20260419T220112
CREATED:20260419T132245Z
LAST-MODIFIED:20260419T132245Z
UID:10004796-1777309200-1777320000@wisconsinmotorevents.com
SUMMARY:Sheryl's Club Monday Night Car Shows - Slinger
DESCRIPTION:
URL:https://wisconsinmotorevents.com/event/sheryls-club-monday-night-car-shows-slinger-2/2026-04-27/
LOCATION:Sheryl’s Club 175 – Slinger\, 3545 State Road 175\, Slinger\, United States
CATEGORIES:Car Show
ATTACH;FMTTYPE=image/jpeg:https://wisconsinmotorevents.com/wp-content/uploads/2026/04/sheryl.jpg
END:VEVENT
BEGIN:VEVENT
DTSTART;TZID=America/Chicago:20260504T170000
DTEND;TZID=America/Chicago:20260504T200000
DTSTAMP:20260419T220112
CREATED:20260419T132245Z
LAST-MODIFIED:20260419T132245Z
UID:10004797-1777914000-1777924800@wisconsinmotorevents.com
SUMMARY:Sheryl's Club Monday Night Car Shows - Slinger
DESCRIPTION:
URL:https://wisconsinmotorevents.com/event/sheryls-club-monday-night-car-shows-slinger-2/2026-05-04/
LOCATION:Sheryl’s Club 175 – Slinger\, 3545 State Road 175\, Slinger\, United States
CATEGORIES:Car Show
ATTACH;FMTTYPE=image/jpeg:https://wisconsinmotorevents.com/wp-content/uploads/2026/04/sheryl.jpg
END:VEVENT
BEGIN:VEVENT
DTSTART;TZID=America/Chicago:20260511T170000
DTEND;TZID=America/Chicago:20260511T200000
DTSTAMP:20260419T220112
CREATED:20260419T132245Z
LAST-MODIFIED:20260419T132245Z
UID:10004798-1778518800-1778529600@wisconsinmotorevents.com
SUMMARY:Sheryl's Club Monday Night Car Shows - Slinger
DESCRIPTION:
URL:https://wisconsinmotorevents.com/event/sheryls-club-monday-night-car-shows-slinger-2/2026-05-11/
LOCATION:Sheryl’s Club 175 – Slinger\, 3545 State Road 175\, Slinger\, United States
CATEGORIES:Car Show
ATTACH;FMTTYPE=image/jpeg:https://wisconsinmotorevents.com/wp-content/uploads/2026/04/sheryl.jpg
END:VEVENT
BEGIN:VEVENT
DTSTART;TZID=America/Chicago:20260518T170000
DTEND;TZID=America/Chicago:20260518T200000
DTSTAMP:20260419T220112
CREATED:20260419T132245Z
LAST-MODIFIED:20260419T132245Z
UID:10004799-1779123600-1779134400@wisconsinmotorevents.com
SUMMARY:Sheryl's Club Monday Night Car Shows - Slinger
DESCRIPTION:
URL:https://wisconsinmotorevents.com/event/sheryls-club-monday-night-car-shows-slinger-2/2026-05-18/
LOCATION:Sheryl’s Club 175 – Slinger\, 3545 State Road 175\, Slinger\, United States
CATEGORIES:Car Show
ATTACH;FMTTYPE=image/jpeg:https://wisconsinmotorevents.com/wp-content/uploads/2026/04/sheryl.jpg
END:VEVENT
BEGIN:VEVENT
DTSTART;TZID=America/Chicago:20260525T170000
DTEND;TZID=America/Chicago:20260525T200000
DTSTAMP:20260419T220112
CREATED:20260419T132245Z
LAST-MODIFIED:20260419T132245Z
UID:10004800-1779728400-1779739200@wisconsinmotorevents.com
SUMMARY:Sheryl's Club Monday Night Car Shows - Slinger
DESCRIPTION:
URL:https://wisconsinmotorevents.com/event/sheryls-club-monday-night-car-shows-slinger-2/2026-05-25/
LOCATION:Sheryl’s Club 175 – Slinger\, 3545 State Road 175\, Slinger\, United States
CATEGORIES:Car Show
ATTACH;FMTTYPE=image/jpeg:https://wisconsinmotorevents.com/wp-content/uploads/2026/04/sheryl.jpg
END:VEVENT
BEGIN:VEVENT
DTSTART;TZID=America/Chicago:20260601T170000
DTEND;TZID=America/Chicago:20260601T200000
DTSTAMP:20260419T220112
CREATED:20260419T132245Z
LAST-MODIFIED:20260419T132245Z
UID:10004801-1780333200-1780344000@wisconsinmotorevents.com
SUMMARY:Sheryl's Club Monday Night Car Shows - Slinger
DESCRIPTION:
URL:https://wisconsinmotorevents.com/event/sheryls-club-monday-night-car-shows-slinger-2/2026-06-01/
LOCATION:Sheryl’s Club 175 – Slinger\, 3545 State Road 175\, Slinger\, United States
CATEGORIES:Car Show
ATTACH;FMTTYPE=image/jpeg:https://wisconsinmotorevents.com/wp-content/uploads/2026/04/sheryl.jpg
END:VEVENT
BEGIN:VEVENT
DTSTART;TZID=America/Chicago:20260608T170000
DTEND;TZID=America/Chicago:20260608T200000
DTSTAMP:20260419T220112
CREATED:20260419T132245Z
LAST-MODIFIED:20260419T132245Z
UID:10004802-1780938000-1780948800@wisconsinmotorevents.com
SUMMARY:Sheryl's Club Monday Night Car Shows - Slinger
DESCRIPTION:
URL:https://wisconsinmotorevents.com/event/sheryls-club-monday-night-car-shows-slinger-2/2026-06-08/
LOCATION:Sheryl’s Club 175 – Slinger\, 3545 State Road 175\, Slinger\, United States
CATEGORIES:Car Show
ATTACH;FMTTYPE=image/jpeg:https://wisconsinmotorevents.com/wp-content/uploads/2026/04/sheryl.jpg
END:VEVENT
BEGIN:VEVENT
DTSTART;TZID=America/Chicago:20260615T170000
DTEND;TZID=America/Chicago:20260615T200000
DTSTAMP:20260419T220112
CREATED:20260419T132245Z
LAST-MODIFIED:20260419T132245Z
UID:10004803-1781542800-1781553600@wisconsinmotorevents.com
SUMMARY:Sheryl's Club Monday Night Car Shows - Slinger
DESCRIPTION:
URL:https://wisconsinmotorevents.com/event/sheryls-club-monday-night-car-shows-slinger-2/2026-06-15/
LOCATION:Sheryl’s Club 175 – Slinger\, 3545 State Road 175\, Slinger\, United States
CATEGORIES:Car Show
ATTACH;FMTTYPE=image/jpeg:https://wisconsinmotorevents.com/wp-content/uploads/2026/04/sheryl.jpg
END:VEVENT
BEGIN:VEVENT
DTSTART;TZID=America/Chicago:20260622T170000
DTEND;TZID=America/Chicago:20260622T200000
DTSTAMP:20260419T220112
CREATED:20260419T132245Z
LAST-MODIFIED:20260419T132245Z
UID:10004804-1782147600-1782158400@wisconsinmotorevents.com
SUMMARY:Sheryl's Club Monday Night Car Shows - Slinger
DESCRIPTION:
URL:https://wisconsinmotorevents.com/event/sheryls-club-monday-night-car-shows-slinger-2/2026-06-22/
LOCATION:Sheryl’s Club 175 – Slinger\, 3545 State Road 175\, Slinger\, United States
CATEGORIES:Car Show
ATTACH;FMTTYPE=image/jpeg:https://wisconsinmotorevents.com/wp-content/uploads/2026/04/sheryl.jpg
END:VEVENT
BEGIN:VEVENT
DTSTART;TZID=America/Chicago:20260629T170000
DTEND;TZID=America/Chicago:20260629T200000
DTSTAMP:20260419T220112
CREATED:20260419T132245Z
LAST-MODIFIED:20260419T132245Z
UID:10004805-1782752400-1782763200@wisconsinmotorevents.com
SUMMARY:Sheryl's Club Monday Night Car Shows - Slinger
DESCRIPTION:
URL:https://wisconsinmotorevents.com/event/sheryls-club-monday-night-car-shows-slinger-2/2026-06-29/
LOCATION:Sheryl’s Club 175 – Slinger\, 3545 State Road 175\, Slinger\, United States
CATEGORIES:Car Show
ATTACH;FMTTYPE=image/jpeg:https://wisconsinmotorevents.com/wp-content/uploads/2026/04/sheryl.jpg
END:VEVENT
BEGIN:VEVENT
DTSTART;TZID=America/Chicago:20260706T170000
DTEND;TZID=America/Chicago:20260706T200000
DTSTAMP:20260419T220112
CREATED:20260419T132245Z
LAST-MODIFIED:20260419T132245Z
UID:10004806-1783357200-1783368000@wisconsinmotorevents.com
SUMMARY:Sheryl's Club Monday Night Car Shows - Slinger
DESCRIPTION:
URL:https://wisconsinmotorevents.com/event/sheryls-club-monday-night-car-shows-slinger-2/2026-07-06/
LOCATION:Sheryl’s Club 175 – Slinger\, 3545 State Road 175\, Slinger\, United States
CATEGORIES:Car Show
ATTACH;FMTTYPE=image/jpeg:https://wisconsinmotorevents.com/wp-content/uploads/2026/04/sheryl.jpg
END:VEVENT
BEGIN:VEVENT
DTSTART;TZID=America/Chicago:20260713T170000
DTEND;TZID=America/Chicago:20260713T200000
DTSTAMP:20260419T220112
CREATED:20260419T132245Z
LAST-MODIFIED:20260419T132245Z
UID:10004807-1783962000-1783972800@wisconsinmotorevents.com
SUMMARY:Sheryl's Club Monday Night Car Shows - Slinger
DESCRIPTION:
URL:https://wisconsinmotorevents.com/event/sheryls-club-monday-night-car-shows-slinger-2/2026-07-13/
LOCATION:Sheryl’s Club 175 – Slinger\, 3545 State Road 175\, Slinger\, United States
CATEGORIES:Car Show
ATTACH;FMTTYPE=image/jpeg:https://wisconsinmotorevents.com/wp-content/uploads/2026/04/sheryl.jpg
END:VEVENT
BEGIN:VEVENT
DTSTART;TZID=America/Chicago:20260720T170000
DTEND;TZID=America/Chicago:20260720T200000
DTSTAMP:20260419T220112
CREATED:20260419T132245Z
LAST-MODIFIED:20260419T132245Z
UID:10004808-1784566800-1784577600@wisconsinmotorevents.com
SUMMARY:Sheryl's Club Monday Night Car Shows - Slinger
DESCRIPTION:
URL:https://wisconsinmotorevents.com/event/sheryls-club-monday-night-car-shows-slinger-2/2026-07-20/
LOCATION:Sheryl’s Club 175 – Slinger\, 3545 State Road 175\, Slinger\, United States
CATEGORIES:Car Show
ATTACH;FMTTYPE=image/jpeg:https://wisconsinmotorevents.com/wp-content/uploads/2026/04/sheryl.jpg
END:VEVENT
BEGIN:VEVENT
DTSTART;TZID=America/Chicago:20260727T170000
DTEND;TZID=America/Chicago:20260727T200000
DTSTAMP:20260419T220112
CREATED:20260419T132245Z
LAST-MODIFIED:20260419T132245Z
UID:10004809-1785171600-1785182400@wisconsinmotorevents.com
SUMMARY:Sheryl's Club Monday Night Car Shows - Slinger
DESCRIPTION:
URL:https://wisconsinmotorevents.com/event/sheryls-club-monday-night-car-shows-slinger-2/2026-07-27/
LOCATION:Sheryl’s Club 175 – Slinger\, 3545 State Road 175\, Slinger\, United States
CATEGORIES:Car Show
ATTACH;FMTTYPE=image/jpeg:https://wisconsinmotorevents.com/wp-content/uploads/2026/04/sheryl.jpg
END:VEVENT
BEGIN:VEVENT
DTSTART;TZID=America/Chicago:20260803T170000
DTEND;TZID=America/Chicago:20260803T200000
DTSTAMP:20260419T220112
CREATED:20260419T132245Z
LAST-MODIFIED:20260419T132245Z
UID:10004810-1785776400-1785787200@wisconsinmotorevents.com
SUMMARY:Sheryl's Club Monday Night Car Shows - Slinger
DESCRIPTION:
URL:https://wisconsinmotorevents.com/event/sheryls-club-monday-night-car-shows-slinger-2/2026-08-03/
LOCATION:Sheryl’s Club 175 – Slinger\, 3545 State Road 175\, Slinger\, United States
CATEGORIES:Car Show
ATTACH;FMTTYPE=image/jpeg:https://wisconsinmotorevents.com/wp-content/uploads/2026/04/sheryl.jpg
END:VEVENT
BEGIN:VEVENT
DTSTART;TZID=America/Chicago:20260810T170000
DTEND;TZID=America/Chicago:20260810T200000
DTSTAMP:20260419T220112
CREATED:20260419T132245Z
LAST-MODIFIED:20260419T132245Z
UID:10004811-1786381200-1786392000@wisconsinmotorevents.com
SUMMARY:Sheryl's Club Monday Night Car Shows - Slinger
DESCRIPTION:
URL:https://wisconsinmotorevents.com/event/sheryls-club-monday-night-car-shows-slinger-2/2026-08-10/
LOCATION:Sheryl’s Club 175 – Slinger\, 3545 State Road 175\, Slinger\, United States
CATEGORIES:Car Show
ATTACH;FMTTYPE=image/jpeg:https://wisconsinmotorevents.com/wp-content/uploads/2026/04/sheryl.jpg
END:VEVENT
BEGIN:VEVENT
DTSTART;TZID=America/Chicago:20260817T170000
DTEND;TZID=America/Chicago:20260817T200000
DTSTAMP:20260419T220112
CREATED:20260419T132245Z
LAST-MODIFIED:20260419T132245Z
UID:10004812-1786986000-1786996800@wisconsinmotorevents.com
SUMMARY:Sheryl's Club Monday Night Car Shows - Slinger
DESCRIPTION:
URL:https://wisconsinmotorevents.com/event/sheryls-club-monday-night-car-shows-slinger-2/2026-08-17/
LOCATION:Sheryl’s Club 175 – Slinger\, 3545 State Road 175\, Slinger\, United States
CATEGORIES:Car Show
ATTACH;FMTTYPE=image/jpeg:https://wisconsinmotorevents.com/wp-content/uploads/2026/04/sheryl.jpg
END:VEVENT
BEGIN:VEVENT
DTSTART;TZID=America/Chicago:20260824T170000
DTEND;TZID=America/Chicago:20260824T200000
DTSTAMP:20260419T220112
CREATED:20260419T132245Z
LAST-MODIFIED:20260419T132245Z
UID:10004813-1787590800-1787601600@wisconsinmotorevents.com
SUMMARY:Sheryl's Club Monday Night Car Shows - Slinger
DESCRIPTION:
URL:https://wisconsinmotorevents.com/event/sheryls-club-monday-night-car-shows-slinger-2/2026-08-24/
LOCATION:Sheryl’s Club 175 – Slinger\, 3545 State Road 175\, Slinger\, United States
CATEGORIES:Car Show
ATTACH;FMTTYPE=image/jpeg:https://wisconsinmotorevents.com/wp-content/uploads/2026/04/sheryl.jpg
END:VEVENT
BEGIN:VEVENT
DTSTART;TZID=America/Chicago:20260831T170000
DTEND;TZID=America/Chicago:20260831T200000
DTSTAMP:20260419T220112
CREATED:20260419T132245Z
LAST-MODIFIED:20260419T132245Z
UID:10004814-1788195600-1788206400@wisconsinmotorevents.com
SUMMARY:Sheryl's Club Monday Night Car Shows - Slinger
DESCRIPTION:
URL:https://wisconsinmotorevents.com/event/sheryls-club-monday-night-car-shows-slinger-2/2026-08-31/
LOCATION:Sheryl’s Club 175 – Slinger\, 3545 State Road 175\, Slinger\, United States
CATEGORIES:Car Show
ATTACH;FMTTYPE=image/jpeg:https://wisconsinmotorevents.com/wp-content/uploads/2026/04/sheryl.jpg
END:VEVENT
BEGIN:VEVENT
DTSTART;TZID=America/Chicago:20260907T170000
DTEND;TZID=America/Chicago:20260907T200000
DTSTAMP:20260419T220112
CREATED:20260419T132245Z
LAST-MODIFIED:20260419T132245Z
UID:10004815-1788800400-1788811200@wisconsinmotorevents.com
SUMMARY:Sheryl's Club Monday Night Car Shows - Slinger
DESCRIPTION:
URL:https://wisconsinmotorevents.com/event/sheryls-club-monday-night-car-shows-slinger-2/2026-09-07/
LOCATION:Sheryl’s Club 175 – Slinger\, 3545 State Road 175\, Slinger\, United States
CATEGORIES:Car Show
ATTACH;FMTTYPE=image/jpeg:https://wisconsinmotorevents.com/wp-content/uploads/2026/04/sheryl.jpg
END:VEVENT
BEGIN:VEVENT
DTSTART;TZID=America/Chicago:20260914T170000
DTEND;TZID=America/Chicago:20260914T200000
DTSTAMP:20260419T220112
CREATED:20260419T132245Z
LAST-MODIFIED:20260419T132245Z
UID:10004816-1789405200-1789416000@wisconsinmotorevents.com
SUMMARY:Sheryl's Club Monday Night Car Shows - Slinger
DESCRIPTION:
URL:https://wisconsinmotorevents.com/event/sheryls-club-monday-night-car-shows-slinger-2/2026-09-14/
LOCATION:Sheryl’s Club 175 – Slinger\, 3545 State Road 175\, Slinger\, United States
CATEGORIES:Car Show
ATTACH;FMTTYPE=image/jpeg:https://wisconsinmotorevents.com/wp-content/uploads/2026/04/sheryl.jpg
END:VEVENT
BEGIN:VEVENT
DTSTART;TZID=America/Chicago:20260921T170000
DTEND;TZID=America/Chicago:20260921T200000
DTSTAMP:20260419T220112
CREATED:20260419T132245Z
LAST-MODIFIED:20260419T132245Z
UID:10004817-1790010000-1790020800@wisconsinmotorevents.com
SUMMARY:Sheryl's Club Monday Night Car Shows - Slinger
DESCRIPTION:
URL:https://wisconsinmotorevents.com/event/sheryls-club-monday-night-car-shows-slinger-2/2026-09-21/
LOCATION:Sheryl’s Club 175 – Slinger\, 3545 State Road 175\, Slinger\, United States
CATEGORIES:Car Show
ATTACH;FMTTYPE=image/jpeg:https://wisconsinmotorevents.com/wp-content/uploads/2026/04/sheryl.jpg
END:VEVENT
BEGIN:VEVENT
DTSTART;TZID=America/Chicago:20260928T170000
DTEND;TZID=America/Chicago:20260928T200000
DTSTAMP:20260419T220112
CREATED:20260419T132245Z
LAST-MODIFIED:20260419T132245Z
UID:10004818-1790614800-1790625600@wisconsinmotorevents.com
SUMMARY:Sheryl's Club Monday Night Car Shows - Slinger
DESCRIPTION:
URL:https://wisconsinmotorevents.com/event/sheryls-club-monday-night-car-shows-slinger-2/2026-09-28/
LOCATION:Sheryl’s Club 175 – Slinger\, 3545 State Road 175\, Slinger\, United States
CATEGORIES:Car Show
ATTACH;FMTTYPE=image/jpeg:https://wisconsinmotorevents.com/wp-content/uploads/2026/04/sheryl.jpg
END:VEVENT
BEGIN:VEVENT
DTSTART;TZID=America/Chicago:20261005T170000
DTEND;TZID=America/Chicago:20261005T200000
DTSTAMP:20260419T220112
CREATED:20260419T132245Z
LAST-MODIFIED:20260419T132245Z
UID:10004819-1791219600-1791230400@wisconsinmotorevents.com
SUMMARY:Sheryl's Club Monday Night Car Shows - Slinger
DESCRIPTION:
URL:https://wisconsinmotorevents.com/event/sheryls-club-monday-night-car-shows-slinger-2/2026-10-05/
LOCATION:Sheryl’s Club 175 – Slinger\, 3545 State Road 175\, Slinger\, United States
CATEGORIES:Car Show
ATTACH;FMTTYPE=image/jpeg:https://wisconsinmotorevents.com/wp-content/uploads/2026/04/sheryl.jpg
END:VEVENT
END:VCALENDAR