BEGIN:VCALENDAR
VERSION:2.0
PRODID:-//Wisconsin Motor Events - ECPv6.15.20//NONSGML v1.0//EN
CALSCALE:GREGORIAN
METHOD:PUBLISH
X-WR-CALNAME:Wisconsin Motor Events
X-ORIGINAL-URL:https://wisconsinmotorevents.com
X-WR-CALDESC:Events for Wisconsin Motor Events
REFRESH-INTERVAL;VALUE=DURATION:PT1H
X-Robots-Tag:noindex
X-PUBLISHED-TTL:PT1H
BEGIN:VTIMEZONE
TZID:America/Chicago
BEGIN:DAYLIGHT
TZOFFSETFROM:-0600
TZOFFSETTO:-0500
TZNAME:CDT
DTSTART:20250309T080000
END:DAYLIGHT
BEGIN:STANDARD
TZOFFSETFROM:-0500
TZOFFSETTO:-0600
TZNAME:CST
DTSTART:20251102T070000
END:STANDARD
BEGIN:DAYLIGHT
TZOFFSETFROM:-0600
TZOFFSETTO:-0500
TZNAME:CDT
DTSTART:20260308T080000
END:DAYLIGHT
BEGIN:STANDARD
TZOFFSETFROM:-0500
TZOFFSETTO:-0600
TZNAME:CST
DTSTART:20261101T070000
END:STANDARD
BEGIN:DAYLIGHT
TZOFFSETFROM:-0600
TZOFFSETTO:-0500
TZNAME:CDT
DTSTART:20270314T080000
END:DAYLIGHT
BEGIN:STANDARD
TZOFFSETFROM:-0500
TZOFFSETTO:-0600
TZNAME:CST
DTSTART:20271107T070000
END:STANDARD
END:VTIMEZONE
BEGIN:VEVENT
DTSTART;TZID=America/Chicago:20261004T080000
DTEND;TZID=America/Chicago:20261004T120000
DTSTAMP:20260419T123611
CREATED:20260413T230533Z
LAST-MODIFIED:20260413T230533Z
UID:10004785-1791100800-1791115200@wisconsinmotorevents.com
SUMMARY:Greendale Cars & Coffee
DESCRIPTION:First Sunday of the month May-October\n8am-Noon \nMay 3rd\nJune 7th\nJuly 5th\nAug 2nd\nSept 6th\nOct 4th
URL:https://wisconsinmotorevents.com/event/greendale-cars-coffee/2026-10-04/
LOCATION:Downtown Greendale\, 5635 Broad St\, Greendale\, United States
CATEGORIES:Cars and Coffee
END:VEVENT
END:VCALENDAR