BEGIN:VCALENDAR
VERSION:2.0
PRODID:-//Wisconsin Motor Events - ECPv6.15.20//NONSGML v1.0//EN
CALSCALE:GREGORIAN
METHOD:PUBLISH
X-ORIGINAL-URL:https://wisconsinmotorevents.com
X-WR-CALDESC:Events for Wisconsin Motor Events
REFRESH-INTERVAL;VALUE=DURATION:PT1H
X-Robots-Tag:noindex
X-PUBLISHED-TTL:PT1H
BEGIN:VTIMEZONE
TZID:America/Chicago
BEGIN:DAYLIGHT
TZOFFSETFROM:-0600
TZOFFSETTO:-0500
TZNAME:CDT
DTSTART:20250309T080000
END:DAYLIGHT
BEGIN:STANDARD
TZOFFSETFROM:-0500
TZOFFSETTO:-0600
TZNAME:CST
DTSTART:20251102T070000
END:STANDARD
BEGIN:DAYLIGHT
TZOFFSETFROM:-0600
TZOFFSETTO:-0500
TZNAME:CDT
DTSTART:20260308T080000
END:DAYLIGHT
BEGIN:STANDARD
TZOFFSETFROM:-0500
TZOFFSETTO:-0600
TZNAME:CST
DTSTART:20261101T070000
END:STANDARD
BEGIN:DAYLIGHT
TZOFFSETFROM:-0600
TZOFFSETTO:-0500
TZNAME:CDT
DTSTART:20270314T080000
END:DAYLIGHT
BEGIN:STANDARD
TZOFFSETFROM:-0500
TZOFFSETTO:-0600
TZNAME:CST
DTSTART:20271107T070000
END:STANDARD
END:VTIMEZONE
BEGIN:VEVENT
DTSTART;TZID=America/Chicago:20260904T160000
DTEND;TZID=America/Chicago:20260904T200000
DTSTAMP:20260422T172425
CREATED:20260228T034718Z
LAST-MODIFIED:20260228T034718Z
UID:10004348-1788537600-1788552000@wisconsinmotorevents.com
SUMMARY:Custom Car & Bike Night - Milwaukee
DESCRIPTION:
URL:https://wisconsinmotorevents.com/event/custom-car-bike-night-milwaukee/2026-09-04/
LOCATION:Harley-Davidson Museum\, 400 W Canal St\, Milwaukee\, 53203\, United States
CATEGORIES:Car Night,Motorcycle Night
ATTACH;FMTTYPE=image/jpeg:https://wisconsinmotorevents.com/wp-content/uploads/2026/02/harley-car-night.jpg
END:VEVENT
BEGIN:VEVENT
DTSTART;TZID=America/Chicago:20260910T173000
DTEND;TZID=America/Chicago:20260910T203000
DTSTAMP:20260422T172425
CREATED:20260413T221024Z
LAST-MODIFIED:20260413T221024Z
UID:10004776-1789061400-1789072200@wisconsinmotorevents.com
SUMMARY:Octane & Iron - Menomonie
DESCRIPTION:Every other Thursday 5:30-8:30
URL:https://wisconsinmotorevents.com/event/octane-iron-menomonie/2026-09-10/
LOCATION:Taco John’s Menomonie\, 1526 N Broadway St\, Menomonie\, United States
CATEGORIES:Car Night
ATTACH;FMTTYPE=image/jpeg:https://wisconsinmotorevents.com/wp-content/uploads/2026/04/octane.jpg
END:VEVENT
BEGIN:VEVENT
DTSTART;TZID=America/Chicago:20260915T170000
DTEND;TZID=America/Chicago:20260915T200000
DTSTAMP:20260422T172425
CREATED:20260413T173259Z
LAST-MODIFIED:20260413T173259Z
UID:10004766-1789491600-1789502400@wisconsinmotorevents.com
SUMMARY:Cars @ Kim's - Oconomowoc
DESCRIPTION:
URL:https://wisconsinmotorevents.com/event/cars-kims-oconomowoc/2026-09-15/
LOCATION:Kim’s Gourmet Pub – Oconomowoc\, N67W33395 County Trunk Hwy K\, Oconomowoc\, United States
CATEGORIES:Car Night
ATTACH;FMTTYPE=image/jpeg:https://wisconsinmotorevents.com/wp-content/uploads/2026/04/kim.jpg
END:VEVENT
BEGIN:VEVENT
DTSTART;TZID=America/Chicago:20260924T173000
DTEND;TZID=America/Chicago:20260924T203000
DTSTAMP:20260422T172425
CREATED:20260413T221024Z
LAST-MODIFIED:20260413T221024Z
UID:10004777-1790271000-1790281800@wisconsinmotorevents.com
SUMMARY:Octane & Iron - Menomonie
DESCRIPTION:Every other Thursday 5:30-8:30
URL:https://wisconsinmotorevents.com/event/octane-iron-menomonie/2026-09-24/
LOCATION:Taco John’s Menomonie\, 1526 N Broadway St\, Menomonie\, United States
CATEGORIES:Car Night
ATTACH;FMTTYPE=image/jpeg:https://wisconsinmotorevents.com/wp-content/uploads/2026/04/octane.jpg
END:VEVENT
END:VCALENDAR