BEGIN:VCALENDAR
VERSION:2.0
PRODID:-//Wisconsin Motor Events - ECPv6.15.20//NONSGML v1.0//EN
CALSCALE:GREGORIAN
METHOD:PUBLISH
X-ORIGINAL-URL:https://wisconsinmotorevents.com
X-WR-CALDESC:Events for Wisconsin Motor Events
REFRESH-INTERVAL;VALUE=DURATION:PT1H
X-Robots-Tag:noindex
X-PUBLISHED-TTL:PT1H
BEGIN:VTIMEZONE
TZID:America/Chicago
BEGIN:DAYLIGHT
TZOFFSETFROM:-0600
TZOFFSETTO:-0500
TZNAME:CDT
DTSTART:20250309T080000
END:DAYLIGHT
BEGIN:STANDARD
TZOFFSETFROM:-0500
TZOFFSETTO:-0600
TZNAME:CST
DTSTART:20251102T070000
END:STANDARD
BEGIN:DAYLIGHT
TZOFFSETFROM:-0600
TZOFFSETTO:-0500
TZNAME:CDT
DTSTART:20260308T080000
END:DAYLIGHT
BEGIN:STANDARD
TZOFFSETFROM:-0500
TZOFFSETTO:-0600
TZNAME:CST
DTSTART:20261101T070000
END:STANDARD
BEGIN:DAYLIGHT
TZOFFSETFROM:-0600
TZOFFSETTO:-0500
TZNAME:CDT
DTSTART:20270314T080000
END:DAYLIGHT
BEGIN:STANDARD
TZOFFSETFROM:-0500
TZOFFSETTO:-0600
TZNAME:CST
DTSTART:20271107T070000
END:STANDARD
END:VTIMEZONE
BEGIN:VEVENT
DTSTART;VALUE=DATE:20260723
DTEND;VALUE=DATE:20260727
DTSTAMP:20260424T023236
CREATED:20251207T182444Z
LAST-MODIFIED:20260206T220859Z
UID:10003993-1784764800-1785110399@wisconsinmotorevents.com
SUMMARY:WI Camaro & Firebird Rally - Road America - 7/23-7/26/26
DESCRIPTION:Thursday 7/23\n– Evening Meet and Greet Welcome Party \nFriday 7/24\n– Autocross on the Briggs and Stratton one mile pro Go-cart track\n– Friday evening Show and Shine \nSaturday 7/25\n– Car Show inside the Road Course Carousel Turn\n– Dedicated Sunset Cruise on the 4 Mile track\n– Evening Cruise In with live music \nSunday 7/26\n– Scenic Kettle Moriane Cruise to Brunch at JAAAGZ Bar & Grill Elkhart Lake \n 
URL:https://wisconsinmotorevents.com/event/wi-camaro-rally-road-america-7-23-7-26-26/
LOCATION:Road America\, N7390 Hwy 67\, Plymouth\, WI\, 53073\, United States
CATEGORIES:Autocross,Car Show,High Performance Drivers Education/Event
ATTACH;FMTTYPE=image/jpeg:https://wisconsinmotorevents.com/wp-content/uploads/2025/12/camaro-2.jpg
END:VEVENT
BEGIN:VEVENT
DTSTART;VALUE=DATE:20260724
DTEND;VALUE=DATE:20260727
DTSTAMP:20260424T023236
CREATED:20260112T223438Z
LAST-MODIFIED:20260112T223705Z
UID:10004069-1784851200-1785110399@wisconsinmotorevents.com
SUMMARY:Rumblefest Auto Show - Medford - 7/24 thru 7/26/26
DESCRIPTION:Friday night Strat Cats band @ 6 PM. \nSaturday Fun Run (driving\, not running) starting at 1 pm at the Medford City Park. Awards for the Fun Run will be at 7 pm. \nSaturday night music after the Fun Run \nSunday RUMBLEFEST Auto Show with registration starting at 8 am. \nhttp://www.rumblefest.org/
URL:https://wisconsinmotorevents.com/event/rumblefest-auto-show-medford-7-24-thru-7-26-26/
LOCATION:Medford City Park South\, 327 Wheelock Ave\, Medford\, 54451\, United States
CATEGORIES:Car Event,Car Show
ATTACH;FMTTYPE=image/jpeg:https://wisconsinmotorevents.com/wp-content/uploads/2026/01/rumble.jpg
END:VEVENT
BEGIN:VEVENT
DTSTART;TZID=America/Chicago:20260725T080000
DTEND;TZID=America/Chicago:20260808T170000
DTSTAMP:20260424T023236
CREATED:20260409T145630Z
LAST-MODIFIED:20260409T145630Z
UID:10004684-1784966400-1786208400@wisconsinmotorevents.com
SUMMARY:Prairie du Chien Fire Department Car Show - 7/11/2026
DESCRIPTION:No entry but donations benefit the fire department
URL:https://wisconsinmotorevents.com/event/prairie-du-chien-fire-department-car-show-7-11-2026/
LOCATION:Blackhawk Avenue and 4th Street – St Feriole Island\, Blackhawk Avenue and 4th Street\, Prairie du Chien\, 53821
CATEGORIES:Car Show
END:VEVENT
BEGIN:VEVENT
DTSTART;TZID=America/Chicago:20260726T090000
DTEND;TZID=America/Chicago:20260726T140000
DTSTAMP:20260424T023236
CREATED:20260109T011852Z
LAST-MODIFIED:20260109T011852Z
UID:10004064-1785056400-1785074400@wisconsinmotorevents.com
SUMMARY:All Chevy Car Show - Kenosha - 7/26/26
DESCRIPTION:
URL:https://wisconsinmotorevents.com/event/all-chevy-car-show-kenosha-7-26-26/
LOCATION:Lynch Chevrolet Kenosha\, 10901 75th St\, Pleasant Prairie\, United States
CATEGORIES:Car Show
END:VEVENT
BEGIN:VEVENT
DTSTART;TZID=America/Chicago:20260726T100000
DTEND;TZID=America/Chicago:20260726T150000
DTSTAMP:20260424T023236
CREATED:20260302T015822Z
LAST-MODIFIED:20260302T015822Z
UID:10004400-1785060000-1785078000@wisconsinmotorevents.com
SUMMARY:Road Devil's Car Show - Cudahy - 7/26/2026
DESCRIPTION:$10 Entry – no entry after 10am \nOutdoor food by Cudahy Lions
URL:https://wisconsinmotorevents.com/event/road-devils-car-show-cudahy-7-26-2026/
LOCATION:Joe’s “K” Ranch – Cudahy\, 4840 S Whitnall Ave\, Cudahy\, United States
CATEGORIES:Car Show
END:VEVENT
BEGIN:VEVENT
DTSTART;TZID=America/Chicago:20260726T120000
DTEND;TZID=America/Chicago:20260726T160000
DTSTAMP:20260424T023236
CREATED:20260321T172316Z
LAST-MODIFIED:20260321T172316Z
UID:10004589-1785067200-1785081600@wisconsinmotorevents.com
SUMMARY:Car Show - Van Dyne - 7/26/2026
DESCRIPTION:
URL:https://wisconsinmotorevents.com/event/car-show-van-dyne-7-26-2026/
LOCATION:Van Dyne Lions Park\, 700 E Lone Elm Rd\, Van Dyne\, 54979\, United States
CATEGORIES:Car Show
ATTACH;FMTTYPE=image/jpeg:https://wisconsinmotorevents.com/wp-content/uploads/2026/03/holiday.jpg
END:VEVENT
END:VCALENDAR