BEGIN:VCALENDAR
VERSION:2.0
PRODID:-//Wisconsin Motor Events - ECPv6.15.20//NONSGML v1.0//EN
CALSCALE:GREGORIAN
METHOD:PUBLISH
X-WR-CALNAME:Wisconsin Motor Events
X-ORIGINAL-URL:https://wisconsinmotorevents.com
X-WR-CALDESC:Events for Wisconsin Motor Events
REFRESH-INTERVAL;VALUE=DURATION:PT1H
X-Robots-Tag:noindex
X-PUBLISHED-TTL:PT1H
BEGIN:VTIMEZONE
TZID:America/Chicago
BEGIN:DAYLIGHT
TZOFFSETFROM:-0600
TZOFFSETTO:-0500
TZNAME:CDT
DTSTART:20250309T080000
END:DAYLIGHT
BEGIN:STANDARD
TZOFFSETFROM:-0500
TZOFFSETTO:-0600
TZNAME:CST
DTSTART:20251102T070000
END:STANDARD
BEGIN:DAYLIGHT
TZOFFSETFROM:-0600
TZOFFSETTO:-0500
TZNAME:CDT
DTSTART:20260308T080000
END:DAYLIGHT
BEGIN:STANDARD
TZOFFSETFROM:-0500
TZOFFSETTO:-0600
TZNAME:CST
DTSTART:20261101T070000
END:STANDARD
BEGIN:DAYLIGHT
TZOFFSETFROM:-0600
TZOFFSETTO:-0500
TZNAME:CDT
DTSTART:20270314T080000
END:DAYLIGHT
BEGIN:STANDARD
TZOFFSETFROM:-0500
TZOFFSETTO:-0600
TZNAME:CST
DTSTART:20271107T070000
END:STANDARD
END:VTIMEZONE
BEGIN:VEVENT
DTSTART;TZID=America/Chicago:20260802T100000
DTEND;TZID=America/Chicago:20261215T160000
DTSTAMP:20260422T165337
CREATED:20260321T013246Z
LAST-MODIFIED:20260321T175723Z
UID:10004547-1785664800-1797350400@wisconsinmotorevents.com
SUMMARY:Car Truck & Tractor Show - Cedarburg - 8/2/2026
DESCRIPTION:$20 registration
URL:https://wisconsinmotorevents.com/event/car-truck-tractor-show-cedarburg-8-2-2026/
LOCATION:Ozaukee County Fair\, W67 N866 Washington Ave\, Cedarburg\, United States
CATEGORIES:Car Show,Tractor Show,Truck Show
END:VEVENT
BEGIN:VEVENT
DTSTART;TZID=America/Chicago:20261018T070000
DTEND;TZID=America/Chicago:20261018T160000
DTSTAMP:20260422T165337
CREATED:20260118T000726Z
LAST-MODIFIED:20260118T000726Z
UID:10004102-1792306800-1792339200@wisconsinmotorevents.com
SUMMARY:Shawano Flea Market Car Show - 10/18/26
DESCRIPTION:
URL:https://wisconsinmotorevents.com/event/shawano-flea-market-car-show-10-18-26/
LOCATION:Shawano Flea Market\, 939 E Green Bay St\, Shawano\, United States
CATEGORIES:Car Show
END:VEVENT
BEGIN:VEVENT
DTSTART;TZID=America/Chicago:20261024T120000
DTEND;TZID=America/Chicago:20261024T160000
DTSTAMP:20260422T165337
CREATED:20260302T025515Z
LAST-MODIFIED:20260302T025643Z
UID:10004408-1792843200-1792857600@wisconsinmotorevents.com
SUMMARY:Hallowfest Car Show and Trunk or Treat - Reeseville - 10/24/2026
DESCRIPTION:Collecting food\, cold weather gear and school supplies for local donation
URL:https://wisconsinmotorevents.com/event/hallowfest-car-show-and-trunk-or-treat-reeseville-10-24-2026/
LOCATION:Reeseville Fireman’s Park\, Reeseville\, 53579\, United States
CATEGORIES:Car Show,Trunk or Treat
ATTACH;FMTTYPE=image/jpeg:https://wisconsinmotorevents.com/wp-content/uploads/2026/03/hallow.jpg
END:VEVENT
END:VCALENDAR