BEGIN:VCALENDAR
VERSION:2.0
PRODID:-//Wisconsin Motor Events - ECPv6.15.20//NONSGML v1.0//EN
CALSCALE:GREGORIAN
METHOD:PUBLISH
X-WR-CALNAME:Wisconsin Motor Events
X-ORIGINAL-URL:https://wisconsinmotorevents.com
X-WR-CALDESC:Events for Wisconsin Motor Events
REFRESH-INTERVAL;VALUE=DURATION:PT1H
X-Robots-Tag:noindex
X-PUBLISHED-TTL:PT1H
BEGIN:VTIMEZONE
TZID:America/Chicago
BEGIN:DAYLIGHT
TZOFFSETFROM:-0600
TZOFFSETTO:-0500
TZNAME:CDT
DTSTART:20250309T080000
END:DAYLIGHT
BEGIN:STANDARD
TZOFFSETFROM:-0500
TZOFFSETTO:-0600
TZNAME:CST
DTSTART:20251102T070000
END:STANDARD
BEGIN:DAYLIGHT
TZOFFSETFROM:-0600
TZOFFSETTO:-0500
TZNAME:CDT
DTSTART:20260308T080000
END:DAYLIGHT
BEGIN:STANDARD
TZOFFSETFROM:-0500
TZOFFSETTO:-0600
TZNAME:CST
DTSTART:20261101T070000
END:STANDARD
BEGIN:DAYLIGHT
TZOFFSETFROM:-0600
TZOFFSETTO:-0500
TZNAME:CDT
DTSTART:20270314T080000
END:DAYLIGHT
BEGIN:STANDARD
TZOFFSETFROM:-0500
TZOFFSETTO:-0600
TZNAME:CST
DTSTART:20271107T070000
END:STANDARD
END:VTIMEZONE
BEGIN:VEVENT
DTSTART;TZID=America/Chicago:20260802T100000
DTEND;TZID=America/Chicago:20261215T160000
DTSTAMP:20260423T145454
CREATED:20260321T013246Z
LAST-MODIFIED:20260321T175723Z
UID:10004547-1785664800-1797350400@wisconsinmotorevents.com
SUMMARY:Car Truck & Tractor Show - Cedarburg - 8/2/2026
DESCRIPTION:$20 registration
URL:https://wisconsinmotorevents.com/event/car-truck-tractor-show-cedarburg-8-2-2026/
LOCATION:Ozaukee County Fair\, W67 N866 Washington Ave\, Cedarburg\, United States
CATEGORIES:Car Show,Tractor Show,Truck Show
END:VEVENT
BEGIN:VEVENT
DTSTART;TZID=America/Chicago:20260918T080000
DTEND;TZID=America/Chicago:20260919T210000
DTSTAMP:20260423T145454
CREATED:20251207T160056Z
LAST-MODIFIED:20251207T160056Z
UID:10003983-1789718400-1789851600@wisconsinmotorevents.com
SUMMARY:Fall-Out Drags\, Show\, Swap - Eau Claire - 9/18/-9/19/26
DESCRIPTION:
URL:https://wisconsinmotorevents.com/event/fall-out-drags-show-swap-eau-claire-9-18-9-19-26/
LOCATION:Rock Falls Raceway\, N1790 1000th St\, Eau Claire\, United States
CATEGORIES:Car Show,Drag Racing,Swap Meet
ATTACH;FMTTYPE=image/jpeg:https://wisconsinmotorevents.com/wp-content/uploads/2025/12/fallout.jpg
END:VEVENT
BEGIN:VEVENT
DTSTART;TZID=America/Chicago:20260919T080000
DTEND;TZID=America/Chicago:20260919T170000
DTSTAMP:20260423T145454
CREATED:20260217T224052Z
LAST-MODIFIED:20260217T224052Z
UID:10004169-1789804800-1789837200@wisconsinmotorevents.com
SUMMARY:Wings N Wheels - Mineral Point - 9/19/2026
DESCRIPTION:Car\, Motorcycle\, Airplane show \n1/4 mile radar runs down the airstrip \nMotorcycle dyno trailer
URL:https://wisconsinmotorevents.com/event/wings-n-wheels-mineral-point-9-19-2026/
LOCATION:Iowa County Airport\, 3151 State St\, Mineral Point\, 53565\, United States
CATEGORIES:Car Show,Fly-In,Motorcycle Show
END:VEVENT
BEGIN:VEVENT
DTSTART;TZID=America/Chicago:20260919T090000
DTEND;TZID=America/Chicago:20260919T160000
DTSTAMP:20260423T145454
CREATED:20260419T124750Z
LAST-MODIFIED:20260419T124750Z
UID:10004790-1789808400-1789833600@wisconsinmotorevents.com
SUMMARY:Oconto Fly-in\, Car & Tractor Show - 9/19/2026
DESCRIPTION:$5 admission \n$10 per car registration
URL:https://wisconsinmotorevents.com/event/oconto-fly-in-car-tractor-show-9-19-2026/
LOCATION:Oconto Airport\, 2983 Airport Rd\, Oconto\, 54153\, United States
CATEGORIES:Car Show,Fly-In
ATTACH;FMTTYPE=image/jpeg:https://wisconsinmotorevents.com/wp-content/uploads/2026/04/oconto-elks.jpg
END:VEVENT
BEGIN:VEVENT
DTSTART;TZID=America/Chicago:20260919T100000
DTEND;TZID=America/Chicago:20260919T170000
DTSTAMP:20260423T145454
CREATED:20260108T165440Z
LAST-MODIFIED:20260108T165440Z
UID:10004019-1789812000-1789837200@wisconsinmotorevents.com
SUMMARY:Hot Rods at the Drive In - Freedom - 9/19/26
DESCRIPTION:$8 age 12 and up; $4 age 4-11; Free age 3 & under
URL:https://wisconsinmotorevents.com/event/hot-rods-at-the-drive-in-freedom-9-19-26/
LOCATION:Field of Scenes\, N3712 WI-55\, Freedom\, 54130\, United States
CATEGORIES:Car Event,Car Show
END:VEVENT
END:VCALENDAR