BEGIN:VCALENDAR
VERSION:2.0
PRODID:-//Wisconsin Motor Events - ECPv6.15.20//NONSGML v1.0//EN
CALSCALE:GREGORIAN
METHOD:PUBLISH
X-ORIGINAL-URL:https://wisconsinmotorevents.com
X-WR-CALDESC:Events for Wisconsin Motor Events
REFRESH-INTERVAL;VALUE=DURATION:PT1H
X-Robots-Tag:noindex
X-PUBLISHED-TTL:PT1H
BEGIN:VTIMEZONE
TZID:America/Chicago
BEGIN:DAYLIGHT
TZOFFSETFROM:-0600
TZOFFSETTO:-0500
TZNAME:CDT
DTSTART:20250309T080000
END:DAYLIGHT
BEGIN:STANDARD
TZOFFSETFROM:-0500
TZOFFSETTO:-0600
TZNAME:CST
DTSTART:20251102T070000
END:STANDARD
BEGIN:DAYLIGHT
TZOFFSETFROM:-0600
TZOFFSETTO:-0500
TZNAME:CDT
DTSTART:20260308T080000
END:DAYLIGHT
BEGIN:STANDARD
TZOFFSETFROM:-0500
TZOFFSETTO:-0600
TZNAME:CST
DTSTART:20261101T070000
END:STANDARD
BEGIN:DAYLIGHT
TZOFFSETFROM:-0600
TZOFFSETTO:-0500
TZNAME:CDT
DTSTART:20270314T080000
END:DAYLIGHT
BEGIN:STANDARD
TZOFFSETFROM:-0500
TZOFFSETTO:-0600
TZNAME:CST
DTSTART:20271107T070000
END:STANDARD
END:VTIMEZONE
BEGIN:VEVENT
DTSTART;TZID=America/Chicago:20260802T100000
DTEND;TZID=America/Chicago:20261215T160000
DTSTAMP:20260421T093312
CREATED:20260321T013246Z
LAST-MODIFIED:20260321T175723Z
UID:10004547-1785664800-1797350400@wisconsinmotorevents.com
SUMMARY:Car Truck & Tractor Show - Cedarburg - 8/2/2026
DESCRIPTION:$20 registration
URL:https://wisconsinmotorevents.com/event/car-truck-tractor-show-cedarburg-8-2-2026/
LOCATION:Ozaukee County Fair\, W67 N866 Washington Ave\, Cedarburg\, United States
CATEGORIES:Car Show,Tractor Show,Truck Show
END:VEVENT
BEGIN:VEVENT
DTSTART;TZID=America/Chicago:20260920T070000
DTEND;TZID=America/Chicago:20260920T150000
DTSTAMP:20260421T093312
CREATED:20260321T025440Z
LAST-MODIFIED:20260321T025444Z
UID:10004567-1789887600-1789916400@wisconsinmotorevents.com
SUMMARY:Kewaskum Car Show - 9/20/2026
DESCRIPTION:$10 registration
URL:https://wisconsinmotorevents.com/event/kewaskum-car-show-9-20-2026/
LOCATION:Downtown Kewaskum\, 1279 Fond Du Lac Ave\, Kewaskum\, 53040\, United States
CATEGORIES:Car Show
ATTACH;FMTTYPE=image/jpeg:https://wisconsinmotorevents.com/wp-content/uploads/2026/03/kewaskum.jpg
END:VEVENT
BEGIN:VEVENT
DTSTART;TZID=America/Chicago:20260920T080000
DTEND;TZID=America/Chicago:20260920T160000
DTSTAMP:20260421T093312
CREATED:20260206T165314Z
LAST-MODIFIED:20260206T165314Z
UID:10004135-1789891200-1789920000@wisconsinmotorevents.com
SUMMARY:Beloit Autorama - 9/20/2026
DESCRIPTION:Beloit Evening Lions Club\nBlue Ribbon Classic Chevy Club\nCoachman Street Rod Club
URL:https://wisconsinmotorevents.com/event/beloit-autorama-9-20-2026/
LOCATION:Preservation Park – Beloit\, 3444 S Riverside Dr\, Beloit\, 53511\, United States
CATEGORIES:Car Show,Swap Meet
ATTACH;FMTTYPE=image/jpeg:https://wisconsinmotorevents.com/wp-content/uploads/2026/02/beloit-autorama.jpg
END:VEVENT
BEGIN:VEVENT
DTSTART;TZID=America/Chicago:20260921T170000
DTEND;TZID=America/Chicago:20260921T200000
DTSTAMP:20260421T093312
CREATED:20260419T132245Z
LAST-MODIFIED:20260419T132245Z
UID:10004817-1790010000-1790020800@wisconsinmotorevents.com
SUMMARY:Sheryl's Club Monday Night Car Shows - Slinger
DESCRIPTION:
URL:https://wisconsinmotorevents.com/event/sheryls-club-monday-night-car-shows-slinger-2/2026-09-21/
LOCATION:Sheryl’s Club 175 – Slinger\, 3545 State Road 175\, Slinger\, United States
CATEGORIES:Car Show
ATTACH;FMTTYPE=image/jpeg:https://wisconsinmotorevents.com/wp-content/uploads/2026/04/sheryl.jpg
END:VEVENT
BEGIN:VEVENT
DTSTART;TZID=America/Chicago:20260923T150000
DTEND;TZID=America/Chicago:20260923T223000
DTSTAMP:20260421T093312
CREATED:20260304T221553Z
LAST-MODIFIED:20260304T221553Z
UID:10004438-1790175600-1790202600@wisconsinmotorevents.com
SUMMARY:Calvanos Car Show - Waukesha
DESCRIPTION:Every Wednesday 3pm to 10:30pm\, April 29-September 23
URL:https://wisconsinmotorevents.com/event/calvanos-car-show-waukesha/2026-09-23/
LOCATION:Foxx View Lanes – Waukesha\, 2440 West Sunset Drive\, Waukesha\, 53188\, United States
CATEGORIES:Car Show
ATTACH;FMTTYPE=image/jpeg:https://wisconsinmotorevents.com/wp-content/uploads/2026/03/calvano.jpg
END:VEVENT
BEGIN:VEVENT
DTSTART;TZID=America/Chicago:20260923T170000
DTEND;TZID=America/Chicago:20260923T210000
DTSTAMP:20260421T093312
CREATED:20260218T040506Z
LAST-MODIFIED:20260218T040506Z
UID:10004296-1790182800-1790197200@wisconsinmotorevents.com
SUMMARY:Wednesday Car Shows - Waukesha
DESCRIPTION:EVERY WEDNESDAY\n3:00 PM – 10:30 PM\nLIVE MUSIC | 5:00 PM – 9:00 PM\nSTARTING APRIL 29TH\nRuns every Wednesday through September 23rd
URL:https://wisconsinmotorevents.com/event/wednesday-car-shows-waukesha/2026-09-23/
LOCATION:Foxx View Lanes – Waukesha\, 2440 West Sunset Drive\, Waukesha\, 53188\, United States
CATEGORIES:Car Show
ATTACH;FMTTYPE=image/jpeg:https://wisconsinmotorevents.com/wp-content/uploads/2026/02/foxx.jpg
END:VEVENT
BEGIN:VEVENT
DTSTART;VALUE=DATE:20260925
DTEND;VALUE=DATE:20260927
DTSTAMP:20260421T093312
CREATED:20241030T015553Z
LAST-MODIFIED:20251103T024220Z
UID:10001352-1790294400-1790467199@wisconsinmotorevents.com
SUMMARY:Fall Jefferson - 9/25-26/2026
DESCRIPTION:
URL:https://wisconsinmotorevents.com/event/fall-jefferson-9-25-26-2026/
LOCATION:Jefferson County Fair Park\, 503 N Jackson Ave\, Jefferson\, 53549\, United States
CATEGORIES:Car Show,Swap Meet
END:VEVENT
BEGIN:VEVENT
DTSTART;TZID=America/Chicago:20260925T150000
DTEND;TZID=America/Chicago:20260925T210000
DTSTAMP:20260421T093312
CREATED:20251221T140728Z
LAST-MODIFIED:20260108T165200Z
UID:10004001-1790348400-1790370000@wisconsinmotorevents.com
SUMMARY:License to Cruise Show - Appleton - 9/25/26
DESCRIPTION:
URL:https://wisconsinmotorevents.com/event/license-to-cruise-show-appleton-9-25-26/
LOCATION:500 W College – Downtown Appleton\, 500 W College\, Appleton\, United States
CATEGORIES:Car Show
ATTACH;FMTTYPE=image/jpeg:https://wisconsinmotorevents.com/wp-content/uploads/2025/12/license.jpg
END:VEVENT
BEGIN:VEVENT
DTSTART;TZID=America/Chicago:20260926T080000
DTEND;TZID=America/Chicago:20260926T140000
DTSTAMP:20260421T093312
CREATED:20260109T013059Z
LAST-MODIFIED:20260206T173905Z
UID:10004065-1790409600-1790431200@wisconsinmotorevents.com
SUMMARY:Gresham Fall Harvest Day Car Show - 9/26/26
DESCRIPTION:$10 per vehicle\nFood Trucks\nPin-Up Contest
URL:https://wisconsinmotorevents.com/event/gresham-fall-harvest-day-car-show-9-26-26/
CATEGORIES:Car Show
ATTACH;FMTTYPE=image/jpeg:https://wisconsinmotorevents.com/wp-content/uploads/2026/01/gresham-1.jpg
END:VEVENT
BEGIN:VEVENT
DTSTART;TZID=America/Chicago:20260926T080000
DTEND;TZID=America/Chicago:20260926T150000
DTSTAMP:20260421T093312
CREATED:20260131T020211Z
LAST-MODIFIED:20260131T020211Z
UID:10004119-1790409600-1790434800@wisconsinmotorevents.com
SUMMARY:Lions Club Car Show - Deerfield - 9/26/2026
DESCRIPTION:Hopefully more info soon
URL:https://wisconsinmotorevents.com/event/lions-club-car-show-deerfield-9-26-2026/
CATEGORIES:Car Show
ATTACH;FMTTYPE=image/jpeg:https://wisconsinmotorevents.com/wp-content/uploads/2026/01/deerfield.jpg
END:VEVENT
BEGIN:VEVENT
DTSTART;TZID=America/Chicago:20260926T080000
DTEND;TZID=America/Chicago:20260927T153000
DTSTAMP:20260421T093312
CREATED:20251207T155743Z
LAST-MODIFIED:20260108T212227Z
UID:10003982-1790409600-1790523000@wisconsinmotorevents.com
SUMMARY:Mopar Showdown Show\, Racing\, Swap - Eau Claire - 9/26 & 9/27/26
DESCRIPTION:
URL:https://wisconsinmotorevents.com/event/mopar-showdown-show-racing-swap-eau-claire-9-26-9-27-26/
LOCATION:Rock Falls Raceway\, N1790 1000th St\, Eau Claire\, United States
CATEGORIES:Car Show,Drag Racing,Swap Meet
ATTACH;FMTTYPE=image/jpeg:https://wisconsinmotorevents.com/wp-content/uploads/2025/12/rock.jpg
END:VEVENT
BEGIN:VEVENT
DTSTART;TZID=America/Chicago:20260926T110000
DTEND;TZID=America/Chicago:20260926T150000
DTSTAMP:20260421T093312
CREATED:20260304T210724Z
LAST-MODIFIED:20260304T210724Z
UID:10004415-1790420400-1790434800@wisconsinmotorevents.com
SUMMARY:Show Us What You Got - Elk Mound - 9/26/2026
DESCRIPTION:
URL:https://wisconsinmotorevents.com/event/show-us-what-you-got-elk-mound-9-26-2026/
LOCATION:Dirty Banana – Elk Mound\, E9810 327th Ave\, Elk Mound
CATEGORIES:Car Show
END:VEVENT
END:VCALENDAR