BEGIN:VCALENDAR
VERSION:2.0
PRODID:-//Wisconsin Motor Events - ECPv6.15.20//NONSGML v1.0//EN
CALSCALE:GREGORIAN
METHOD:PUBLISH
X-ORIGINAL-URL:https://wisconsinmotorevents.com
X-WR-CALDESC:Events for Wisconsin Motor Events
REFRESH-INTERVAL;VALUE=DURATION:PT1H
X-Robots-Tag:noindex
X-PUBLISHED-TTL:PT1H
BEGIN:VTIMEZONE
TZID:America/Chicago
BEGIN:DAYLIGHT
TZOFFSETFROM:-0600
TZOFFSETTO:-0500
TZNAME:CDT
DTSTART:20250309T080000
END:DAYLIGHT
BEGIN:STANDARD
TZOFFSETFROM:-0500
TZOFFSETTO:-0600
TZNAME:CST
DTSTART:20251102T070000
END:STANDARD
BEGIN:DAYLIGHT
TZOFFSETFROM:-0600
TZOFFSETTO:-0500
TZNAME:CDT
DTSTART:20260308T080000
END:DAYLIGHT
BEGIN:STANDARD
TZOFFSETFROM:-0500
TZOFFSETTO:-0600
TZNAME:CST
DTSTART:20261101T070000
END:STANDARD
BEGIN:DAYLIGHT
TZOFFSETFROM:-0600
TZOFFSETTO:-0500
TZNAME:CDT
DTSTART:20270314T080000
END:DAYLIGHT
BEGIN:STANDARD
TZOFFSETFROM:-0500
TZOFFSETTO:-0600
TZNAME:CST
DTSTART:20271107T070000
END:STANDARD
END:VTIMEZONE
BEGIN:VEVENT
DTSTART;TZID=America/Chicago:20260520T170000
DTEND;TZID=America/Chicago:20260520T200000
DTSTAMP:20260420T142853
CREATED:20260329T204836Z
LAST-MODIFIED:20260329T204836Z
UID:10004658-1779296400-1779307200@wisconsinmotorevents.com
SUMMARY:Pardeeville Cruise In
DESCRIPTION:Meeting place is North side of Pardeeville Piggly Wiggly parking lot. \nFrom 5:00 P.M. to 8 P.M. All types of vehicles welcome \nEvery Wednesday night\, May 20th through September 23rd \nor longer if the weather is good
URL:https://wisconsinmotorevents.com/event/pardeeville-cruise-in/2026-05-20/
LOCATION:Piggly Wiggly – Pardeeville\, 514 S Main St\, Pardeeville\, United States
CATEGORIES:Cruise In
ATTACH;FMTTYPE=image/jpeg:https://wisconsinmotorevents.com/wp-content/uploads/2026/03/pardee.jpg
END:VEVENT
BEGIN:VEVENT
DTSTART;TZID=America/Chicago:20260527T170000
DTEND;TZID=America/Chicago:20260527T200000
DTSTAMP:20260420T142853
CREATED:20260329T204836Z
LAST-MODIFIED:20260329T204836Z
UID:10004659-1779901200-1779912000@wisconsinmotorevents.com
SUMMARY:Pardeeville Cruise In
DESCRIPTION:Meeting place is North side of Pardeeville Piggly Wiggly parking lot. \nFrom 5:00 P.M. to 8 P.M. All types of vehicles welcome \nEvery Wednesday night\, May 20th through September 23rd \nor longer if the weather is good
URL:https://wisconsinmotorevents.com/event/pardeeville-cruise-in/2026-05-27/
LOCATION:Piggly Wiggly – Pardeeville\, 514 S Main St\, Pardeeville\, United States
CATEGORIES:Cruise In
ATTACH;FMTTYPE=image/jpeg:https://wisconsinmotorevents.com/wp-content/uploads/2026/03/pardee.jpg
END:VEVENT
BEGIN:VEVENT
DTSTART;TZID=America/Chicago:20260603T170000
DTEND;TZID=America/Chicago:20260603T200000
DTSTAMP:20260420T142853
CREATED:20260329T204836Z
LAST-MODIFIED:20260329T204836Z
UID:10004660-1780506000-1780516800@wisconsinmotorevents.com
SUMMARY:Pardeeville Cruise In
DESCRIPTION:Meeting place is North side of Pardeeville Piggly Wiggly parking lot. \nFrom 5:00 P.M. to 8 P.M. All types of vehicles welcome \nEvery Wednesday night\, May 20th through September 23rd \nor longer if the weather is good
URL:https://wisconsinmotorevents.com/event/pardeeville-cruise-in/2026-06-03/
LOCATION:Piggly Wiggly – Pardeeville\, 514 S Main St\, Pardeeville\, United States
CATEGORIES:Cruise In
ATTACH;FMTTYPE=image/jpeg:https://wisconsinmotorevents.com/wp-content/uploads/2026/03/pardee.jpg
END:VEVENT
BEGIN:VEVENT
DTSTART;TZID=America/Chicago:20260610T170000
DTEND;TZID=America/Chicago:20260610T200000
DTSTAMP:20260420T142853
CREATED:20260329T204836Z
LAST-MODIFIED:20260329T204836Z
UID:10004661-1781110800-1781121600@wisconsinmotorevents.com
SUMMARY:Pardeeville Cruise In
DESCRIPTION:Meeting place is North side of Pardeeville Piggly Wiggly parking lot. \nFrom 5:00 P.M. to 8 P.M. All types of vehicles welcome \nEvery Wednesday night\, May 20th through September 23rd \nor longer if the weather is good
URL:https://wisconsinmotorevents.com/event/pardeeville-cruise-in/2026-06-10/
LOCATION:Piggly Wiggly – Pardeeville\, 514 S Main St\, Pardeeville\, United States
CATEGORIES:Cruise In
ATTACH;FMTTYPE=image/jpeg:https://wisconsinmotorevents.com/wp-content/uploads/2026/03/pardee.jpg
END:VEVENT
BEGIN:VEVENT
DTSTART;TZID=America/Chicago:20260617T170000
DTEND;TZID=America/Chicago:20260617T200000
DTSTAMP:20260420T142853
CREATED:20260329T204836Z
LAST-MODIFIED:20260329T204836Z
UID:10004662-1781715600-1781726400@wisconsinmotorevents.com
SUMMARY:Pardeeville Cruise In
DESCRIPTION:Meeting place is North side of Pardeeville Piggly Wiggly parking lot. \nFrom 5:00 P.M. to 8 P.M. All types of vehicles welcome \nEvery Wednesday night\, May 20th through September 23rd \nor longer if the weather is good
URL:https://wisconsinmotorevents.com/event/pardeeville-cruise-in/2026-06-17/
LOCATION:Piggly Wiggly – Pardeeville\, 514 S Main St\, Pardeeville\, United States
CATEGORIES:Cruise In
ATTACH;FMTTYPE=image/jpeg:https://wisconsinmotorevents.com/wp-content/uploads/2026/03/pardee.jpg
END:VEVENT
BEGIN:VEVENT
DTSTART;TZID=America/Chicago:20260624T170000
DTEND;TZID=America/Chicago:20260624T200000
DTSTAMP:20260420T142853
CREATED:20260329T204836Z
LAST-MODIFIED:20260329T204836Z
UID:10004663-1782320400-1782331200@wisconsinmotorevents.com
SUMMARY:Pardeeville Cruise In
DESCRIPTION:Meeting place is North side of Pardeeville Piggly Wiggly parking lot. \nFrom 5:00 P.M. to 8 P.M. All types of vehicles welcome \nEvery Wednesday night\, May 20th through September 23rd \nor longer if the weather is good
URL:https://wisconsinmotorevents.com/event/pardeeville-cruise-in/2026-06-24/
LOCATION:Piggly Wiggly – Pardeeville\, 514 S Main St\, Pardeeville\, United States
CATEGORIES:Cruise In
ATTACH;FMTTYPE=image/jpeg:https://wisconsinmotorevents.com/wp-content/uploads/2026/03/pardee.jpg
END:VEVENT
BEGIN:VEVENT
DTSTART;TZID=America/Chicago:20260701T170000
DTEND;TZID=America/Chicago:20260701T200000
DTSTAMP:20260420T142853
CREATED:20260329T204836Z
LAST-MODIFIED:20260329T204836Z
UID:10004664-1782925200-1782936000@wisconsinmotorevents.com
SUMMARY:Pardeeville Cruise In
DESCRIPTION:Meeting place is North side of Pardeeville Piggly Wiggly parking lot. \nFrom 5:00 P.M. to 8 P.M. All types of vehicles welcome \nEvery Wednesday night\, May 20th through September 23rd \nor longer if the weather is good
URL:https://wisconsinmotorevents.com/event/pardeeville-cruise-in/2026-07-01/
LOCATION:Piggly Wiggly – Pardeeville\, 514 S Main St\, Pardeeville\, United States
CATEGORIES:Cruise In
ATTACH;FMTTYPE=image/jpeg:https://wisconsinmotorevents.com/wp-content/uploads/2026/03/pardee.jpg
END:VEVENT
BEGIN:VEVENT
DTSTART;TZID=America/Chicago:20260708T170000
DTEND;TZID=America/Chicago:20260708T200000
DTSTAMP:20260420T142853
CREATED:20260329T204836Z
LAST-MODIFIED:20260329T204836Z
UID:10004665-1783530000-1783540800@wisconsinmotorevents.com
SUMMARY:Pardeeville Cruise In
DESCRIPTION:Meeting place is North side of Pardeeville Piggly Wiggly parking lot. \nFrom 5:00 P.M. to 8 P.M. All types of vehicles welcome \nEvery Wednesday night\, May 20th through September 23rd \nor longer if the weather is good
URL:https://wisconsinmotorevents.com/event/pardeeville-cruise-in/2026-07-08/
LOCATION:Piggly Wiggly – Pardeeville\, 514 S Main St\, Pardeeville\, United States
CATEGORIES:Cruise In
ATTACH;FMTTYPE=image/jpeg:https://wisconsinmotorevents.com/wp-content/uploads/2026/03/pardee.jpg
END:VEVENT
BEGIN:VEVENT
DTSTART;TZID=America/Chicago:20260715T170000
DTEND;TZID=America/Chicago:20260715T200000
DTSTAMP:20260420T142853
CREATED:20260329T204836Z
LAST-MODIFIED:20260329T204836Z
UID:10004666-1784134800-1784145600@wisconsinmotorevents.com
SUMMARY:Pardeeville Cruise In
DESCRIPTION:Meeting place is North side of Pardeeville Piggly Wiggly parking lot. \nFrom 5:00 P.M. to 8 P.M. All types of vehicles welcome \nEvery Wednesday night\, May 20th through September 23rd \nor longer if the weather is good
URL:https://wisconsinmotorevents.com/event/pardeeville-cruise-in/2026-07-15/
LOCATION:Piggly Wiggly – Pardeeville\, 514 S Main St\, Pardeeville\, United States
CATEGORIES:Cruise In
ATTACH;FMTTYPE=image/jpeg:https://wisconsinmotorevents.com/wp-content/uploads/2026/03/pardee.jpg
END:VEVENT
BEGIN:VEVENT
DTSTART;TZID=America/Chicago:20260722T170000
DTEND;TZID=America/Chicago:20260722T200000
DTSTAMP:20260420T142853
CREATED:20260329T204836Z
LAST-MODIFIED:20260329T204836Z
UID:10004667-1784739600-1784750400@wisconsinmotorevents.com
SUMMARY:Pardeeville Cruise In
DESCRIPTION:Meeting place is North side of Pardeeville Piggly Wiggly parking lot. \nFrom 5:00 P.M. to 8 P.M. All types of vehicles welcome \nEvery Wednesday night\, May 20th through September 23rd \nor longer if the weather is good
URL:https://wisconsinmotorevents.com/event/pardeeville-cruise-in/2026-07-22/
LOCATION:Piggly Wiggly – Pardeeville\, 514 S Main St\, Pardeeville\, United States
CATEGORIES:Cruise In
ATTACH;FMTTYPE=image/jpeg:https://wisconsinmotorevents.com/wp-content/uploads/2026/03/pardee.jpg
END:VEVENT
BEGIN:VEVENT
DTSTART;TZID=America/Chicago:20260729T170000
DTEND;TZID=America/Chicago:20260729T200000
DTSTAMP:20260420T142853
CREATED:20260329T204836Z
LAST-MODIFIED:20260329T204836Z
UID:10004668-1785344400-1785355200@wisconsinmotorevents.com
SUMMARY:Pardeeville Cruise In
DESCRIPTION:Meeting place is North side of Pardeeville Piggly Wiggly parking lot. \nFrom 5:00 P.M. to 8 P.M. All types of vehicles welcome \nEvery Wednesday night\, May 20th through September 23rd \nor longer if the weather is good
URL:https://wisconsinmotorevents.com/event/pardeeville-cruise-in/2026-07-29/
LOCATION:Piggly Wiggly – Pardeeville\, 514 S Main St\, Pardeeville\, United States
CATEGORIES:Cruise In
ATTACH;FMTTYPE=image/jpeg:https://wisconsinmotorevents.com/wp-content/uploads/2026/03/pardee.jpg
END:VEVENT
BEGIN:VEVENT
DTSTART;TZID=America/Chicago:20260805T170000
DTEND;TZID=America/Chicago:20260805T200000
DTSTAMP:20260420T142853
CREATED:20260329T204836Z
LAST-MODIFIED:20260329T204836Z
UID:10004669-1785949200-1785960000@wisconsinmotorevents.com
SUMMARY:Pardeeville Cruise In
DESCRIPTION:Meeting place is North side of Pardeeville Piggly Wiggly parking lot. \nFrom 5:00 P.M. to 8 P.M. All types of vehicles welcome \nEvery Wednesday night\, May 20th through September 23rd \nor longer if the weather is good
URL:https://wisconsinmotorevents.com/event/pardeeville-cruise-in/2026-08-05/
LOCATION:Piggly Wiggly – Pardeeville\, 514 S Main St\, Pardeeville\, United States
CATEGORIES:Cruise In
ATTACH;FMTTYPE=image/jpeg:https://wisconsinmotorevents.com/wp-content/uploads/2026/03/pardee.jpg
END:VEVENT
BEGIN:VEVENT
DTSTART;TZID=America/Chicago:20260812T170000
DTEND;TZID=America/Chicago:20260812T200000
DTSTAMP:20260420T142853
CREATED:20260329T204836Z
LAST-MODIFIED:20260329T204836Z
UID:10004670-1786554000-1786564800@wisconsinmotorevents.com
SUMMARY:Pardeeville Cruise In
DESCRIPTION:Meeting place is North side of Pardeeville Piggly Wiggly parking lot. \nFrom 5:00 P.M. to 8 P.M. All types of vehicles welcome \nEvery Wednesday night\, May 20th through September 23rd \nor longer if the weather is good
URL:https://wisconsinmotorevents.com/event/pardeeville-cruise-in/2026-08-12/
LOCATION:Piggly Wiggly – Pardeeville\, 514 S Main St\, Pardeeville\, United States
CATEGORIES:Cruise In
ATTACH;FMTTYPE=image/jpeg:https://wisconsinmotorevents.com/wp-content/uploads/2026/03/pardee.jpg
END:VEVENT
BEGIN:VEVENT
DTSTART;TZID=America/Chicago:20260819T170000
DTEND;TZID=America/Chicago:20260819T200000
DTSTAMP:20260420T142853
CREATED:20260329T204836Z
LAST-MODIFIED:20260329T204836Z
UID:10004671-1787158800-1787169600@wisconsinmotorevents.com
SUMMARY:Pardeeville Cruise In
DESCRIPTION:Meeting place is North side of Pardeeville Piggly Wiggly parking lot. \nFrom 5:00 P.M. to 8 P.M. All types of vehicles welcome \nEvery Wednesday night\, May 20th through September 23rd \nor longer if the weather is good
URL:https://wisconsinmotorevents.com/event/pardeeville-cruise-in/2026-08-19/
LOCATION:Piggly Wiggly – Pardeeville\, 514 S Main St\, Pardeeville\, United States
CATEGORIES:Cruise In
ATTACH;FMTTYPE=image/jpeg:https://wisconsinmotorevents.com/wp-content/uploads/2026/03/pardee.jpg
END:VEVENT
BEGIN:VEVENT
DTSTART;TZID=America/Chicago:20260826T170000
DTEND;TZID=America/Chicago:20260826T200000
DTSTAMP:20260420T142853
CREATED:20260329T204836Z
LAST-MODIFIED:20260329T204836Z
UID:10004672-1787763600-1787774400@wisconsinmotorevents.com
SUMMARY:Pardeeville Cruise In
DESCRIPTION:Meeting place is North side of Pardeeville Piggly Wiggly parking lot. \nFrom 5:00 P.M. to 8 P.M. All types of vehicles welcome \nEvery Wednesday night\, May 20th through September 23rd \nor longer if the weather is good
URL:https://wisconsinmotorevents.com/event/pardeeville-cruise-in/2026-08-26/
LOCATION:Piggly Wiggly – Pardeeville\, 514 S Main St\, Pardeeville\, United States
CATEGORIES:Cruise In
ATTACH;FMTTYPE=image/jpeg:https://wisconsinmotorevents.com/wp-content/uploads/2026/03/pardee.jpg
END:VEVENT
BEGIN:VEVENT
DTSTART;TZID=America/Chicago:20260902T170000
DTEND;TZID=America/Chicago:20260902T200000
DTSTAMP:20260420T142853
CREATED:20260329T204836Z
LAST-MODIFIED:20260329T204836Z
UID:10004673-1788368400-1788379200@wisconsinmotorevents.com
SUMMARY:Pardeeville Cruise In
DESCRIPTION:Meeting place is North side of Pardeeville Piggly Wiggly parking lot. \nFrom 5:00 P.M. to 8 P.M. All types of vehicles welcome \nEvery Wednesday night\, May 20th through September 23rd \nor longer if the weather is good
URL:https://wisconsinmotorevents.com/event/pardeeville-cruise-in/2026-09-02/
LOCATION:Piggly Wiggly – Pardeeville\, 514 S Main St\, Pardeeville\, United States
CATEGORIES:Cruise In
ATTACH;FMTTYPE=image/jpeg:https://wisconsinmotorevents.com/wp-content/uploads/2026/03/pardee.jpg
END:VEVENT
BEGIN:VEVENT
DTSTART;TZID=America/Chicago:20260909T170000
DTEND;TZID=America/Chicago:20260909T200000
DTSTAMP:20260420T142853
CREATED:20260329T204836Z
LAST-MODIFIED:20260329T204836Z
UID:10004674-1788973200-1788984000@wisconsinmotorevents.com
SUMMARY:Pardeeville Cruise In
DESCRIPTION:Meeting place is North side of Pardeeville Piggly Wiggly parking lot. \nFrom 5:00 P.M. to 8 P.M. All types of vehicles welcome \nEvery Wednesday night\, May 20th through September 23rd \nor longer if the weather is good
URL:https://wisconsinmotorevents.com/event/pardeeville-cruise-in/2026-09-09/
LOCATION:Piggly Wiggly – Pardeeville\, 514 S Main St\, Pardeeville\, United States
CATEGORIES:Cruise In
ATTACH;FMTTYPE=image/jpeg:https://wisconsinmotorevents.com/wp-content/uploads/2026/03/pardee.jpg
END:VEVENT
BEGIN:VEVENT
DTSTART;TZID=America/Chicago:20260916T170000
DTEND;TZID=America/Chicago:20260916T200000
DTSTAMP:20260420T142853
CREATED:20260329T204836Z
LAST-MODIFIED:20260329T204836Z
UID:10004675-1789578000-1789588800@wisconsinmotorevents.com
SUMMARY:Pardeeville Cruise In
DESCRIPTION:Meeting place is North side of Pardeeville Piggly Wiggly parking lot. \nFrom 5:00 P.M. to 8 P.M. All types of vehicles welcome \nEvery Wednesday night\, May 20th through September 23rd \nor longer if the weather is good
URL:https://wisconsinmotorevents.com/event/pardeeville-cruise-in/2026-09-16/
LOCATION:Piggly Wiggly – Pardeeville\, 514 S Main St\, Pardeeville\, United States
CATEGORIES:Cruise In
ATTACH;FMTTYPE=image/jpeg:https://wisconsinmotorevents.com/wp-content/uploads/2026/03/pardee.jpg
END:VEVENT
BEGIN:VEVENT
DTSTART;TZID=America/Chicago:20260923T170000
DTEND;TZID=America/Chicago:20260923T200000
DTSTAMP:20260420T142853
CREATED:20260329T204836Z
LAST-MODIFIED:20260329T204836Z
UID:10004676-1790182800-1790193600@wisconsinmotorevents.com
SUMMARY:Pardeeville Cruise In
DESCRIPTION:Meeting place is North side of Pardeeville Piggly Wiggly parking lot. \nFrom 5:00 P.M. to 8 P.M. All types of vehicles welcome \nEvery Wednesday night\, May 20th through September 23rd \nor longer if the weather is good
URL:https://wisconsinmotorevents.com/event/pardeeville-cruise-in/2026-09-23/
LOCATION:Piggly Wiggly – Pardeeville\, 514 S Main St\, Pardeeville\, United States
CATEGORIES:Cruise In
ATTACH;FMTTYPE=image/jpeg:https://wisconsinmotorevents.com/wp-content/uploads/2026/03/pardee.jpg
END:VEVENT
END:VCALENDAR