BEGIN:VCALENDAR
VERSION:2.0
PRODID:-//Wisconsin Motor Events - ECPv6.15.20//NONSGML v1.0//EN
CALSCALE:GREGORIAN
METHOD:PUBLISH
X-ORIGINAL-URL:https://wisconsinmotorevents.com
X-WR-CALDESC:Events for Wisconsin Motor Events
REFRESH-INTERVAL;VALUE=DURATION:PT1H
X-Robots-Tag:noindex
X-PUBLISHED-TTL:PT1H
BEGIN:VTIMEZONE
TZID:America/Chicago
BEGIN:DAYLIGHT
TZOFFSETFROM:-0600
TZOFFSETTO:-0500
TZNAME:CDT
DTSTART:20250309T080000
END:DAYLIGHT
BEGIN:STANDARD
TZOFFSETFROM:-0500
TZOFFSETTO:-0600
TZNAME:CST
DTSTART:20251102T070000
END:STANDARD
BEGIN:DAYLIGHT
TZOFFSETFROM:-0600
TZOFFSETTO:-0500
TZNAME:CDT
DTSTART:20260308T080000
END:DAYLIGHT
BEGIN:STANDARD
TZOFFSETFROM:-0500
TZOFFSETTO:-0600
TZNAME:CST
DTSTART:20261101T070000
END:STANDARD
BEGIN:DAYLIGHT
TZOFFSETFROM:-0600
TZOFFSETTO:-0500
TZNAME:CDT
DTSTART:20270314T080000
END:DAYLIGHT
BEGIN:STANDARD
TZOFFSETFROM:-0500
TZOFFSETTO:-0600
TZNAME:CST
DTSTART:20271107T070000
END:STANDARD
END:VTIMEZONE
BEGIN:VEVENT
DTSTART;TZID=America/Chicago:20260802T100000
DTEND;TZID=America/Chicago:20261215T160000
DTSTAMP:20260419T120859
CREATED:20260321T013246Z
LAST-MODIFIED:20260321T175723Z
UID:10004547-1785664800-1797350400@wisconsinmotorevents.com
SUMMARY:Car Truck & Tractor Show - Cedarburg - 8/2/2026
DESCRIPTION:$20 registration
URL:https://wisconsinmotorevents.com/event/car-truck-tractor-show-cedarburg-8-2-2026/
LOCATION:Ozaukee County Fair\, W67 N866 Washington Ave\, Cedarburg\, United States
CATEGORIES:Car Show,Tractor Show,Truck Show
END:VEVENT
BEGIN:VEVENT
DTSTART;TZID=America/Chicago:20260824T170000
DTEND;TZID=America/Chicago:20260824T200000
DTSTAMP:20260419T120859
CREATED:20260419T132245Z
LAST-MODIFIED:20260419T132245Z
UID:10004813-1787590800-1787601600@wisconsinmotorevents.com
SUMMARY:Sheryl's Club Monday Night Car Shows - Slinger
DESCRIPTION:
URL:https://wisconsinmotorevents.com/event/sheryls-club-monday-night-car-shows-slinger-2/2026-08-24/
LOCATION:Sheryl’s Club 175 – Slinger\, 3545 State Road 175\, Slinger\, United States
CATEGORIES:Car Show
ATTACH;FMTTYPE=image/jpeg:https://wisconsinmotorevents.com/wp-content/uploads/2026/04/sheryl.jpg
END:VEVENT
BEGIN:VEVENT
DTSTART;TZID=America/Chicago:20260825T170000
DTEND;TZID=America/Chicago:20260825T200000
DTSTAMP:20260419T120859
CREATED:20260228T181011Z
LAST-MODIFIED:20260228T181011Z
UID:10004354-1787677200-1787688000@wisconsinmotorevents.com
SUMMARY:Culver's Car Show - Reedsburg
DESCRIPTION:Last Tuesday of the month April-September \n5-8pm
URL:https://wisconsinmotorevents.com/event/culvers-car-show-reedsburg/2026-08-25/
LOCATION:Culver’s Reedsburg\, 2075 E Main St\, Reedsburg\, 53959\, United States
CATEGORIES:Car Show
ATTACH;FMTTYPE=image/jpeg:https://wisconsinmotorevents.com/wp-content/uploads/2026/02/culver-1.jpg
END:VEVENT
BEGIN:VEVENT
DTSTART;TZID=America/Chicago:20260826T150000
DTEND;TZID=America/Chicago:20260826T223000
DTSTAMP:20260419T120859
CREATED:20260304T221553Z
LAST-MODIFIED:20260304T221553Z
UID:10004434-1787756400-1787783400@wisconsinmotorevents.com
SUMMARY:Calvanos Car Show - Waukesha
DESCRIPTION:Every Wednesday 3pm to 10:30pm\, April 29-September 23
URL:https://wisconsinmotorevents.com/event/calvanos-car-show-waukesha/2026-08-26/
LOCATION:Foxx View Lanes – Waukesha\, 2440 West Sunset Drive\, Waukesha\, 53188\, United States
CATEGORIES:Car Show
ATTACH;FMTTYPE=image/jpeg:https://wisconsinmotorevents.com/wp-content/uploads/2026/03/calvano.jpg
END:VEVENT
BEGIN:VEVENT
DTSTART;TZID=America/Chicago:20260826T170000
DTEND;TZID=America/Chicago:20260826T210000
DTSTAMP:20260419T120859
CREATED:20260218T040506Z
LAST-MODIFIED:20260218T040506Z
UID:10004292-1787763600-1787778000@wisconsinmotorevents.com
SUMMARY:Wednesday Car Shows - Waukesha
DESCRIPTION:EVERY WEDNESDAY\n3:00 PM – 10:30 PM\nLIVE MUSIC | 5:00 PM – 9:00 PM\nSTARTING APRIL 29TH\nRuns every Wednesday through September 23rd
URL:https://wisconsinmotorevents.com/event/wednesday-car-shows-waukesha/2026-08-26/
LOCATION:Foxx View Lanes – Waukesha\, 2440 West Sunset Drive\, Waukesha\, 53188\, United States
CATEGORIES:Car Show
ATTACH;FMTTYPE=image/jpeg:https://wisconsinmotorevents.com/wp-content/uploads/2026/02/foxx.jpg
END:VEVENT
BEGIN:VEVENT
DTSTART;TZID=America/Chicago:20260827T170000
DTEND;TZID=America/Chicago:20260827T210000
DTSTAMP:20260419T120859
CREATED:20260329T190632Z
LAST-MODIFIED:20260329T190739Z
UID:10004651-1787850000-1787864400@wisconsinmotorevents.com
SUMMARY:Summit Ridge Car Shows - Wonewoc
DESCRIPTION:MAY 24: FIRST CAR SHOW ~ ERIC NOFSINGER BAND 1-5PM\nMAY 28: CAR SHOW ~ TANGO EN FUEGO 5:30-8:30PM\nJUNE 4: CAR SHOW~ JANNA & THE JUNK YARD DAWGS 5-9PM\nJUNE 11: CAR SHOW ~ 3 SOULS BAND 5-9 PM\nJUNE 18: CAR SHOW ~ BARRACUDA 5-9PM\nJUNE 25: CAR SHOW ~ JIMI ANDERSON’S ACUSTIC 5-9PM\nJULY 2: CAR SHOW ~ ANOTHER FINE MESS BAND 5-9PM\nJULY 9: CAR SHOW/FIRE TRUCK ~ JAMMERS BAND 5-9PM\nJULY 16 CAR SHOW ~ BARRACUDA 5-9PM\nJULY 23 CAR SHOW ~ 3 SOULS BAND 5-9PM\nJULY 30: CAR SHOW ~ SWING CREW 5-9PM\nAUG 6: CAR SHOW ~ ADAM BARTELS BAND 5-9PM\nAUG 13 CAR SHOW ~ MARK CROFT DUO 5-9PM\nAUG 20: CAR SHOW ~ JIMI ANDERSON’S ACUSTIC 5-9PM\nAUG 27: CAR SHOW ~ UNTIL DAWN TRIO 5-9PM\nSEPT 3: CAR SHOW ~ 3 SOULS BAND 5-9PM\nSEPT 6: LAST CAR SHOW ~ SECTION 8 BAND 1-5PM
URL:https://wisconsinmotorevents.com/event/summit-ridge-car-shows-wonewoc/2026-08-27/
LOCATION:Summit Ridge – Wonewoc\, N795 State Rd 58\, Wonewoc\, United States
CATEGORIES:Car Show
ATTACH;FMTTYPE=image/jpeg:https://wisconsinmotorevents.com/wp-content/uploads/2026/03/summit.jpg
END:VEVENT
BEGIN:VEVENT
DTSTART;VALUE=DATE:20260828
DTEND;VALUE=DATE:20260830
DTSTAMP:20260419T120859
CREATED:20250722T031544Z
LAST-MODIFIED:20250722T031544Z
UID:10003453-1787875200-1788047999@wisconsinmotorevents.com
SUMMARY:Pistons and Props - Janesville - 8/28 thru 8/29/2026
DESCRIPTION:
URL:https://wisconsinmotorevents.com/event/pistons-and-props-janesville-8-28-thru-8-29-2026/
LOCATION:Southern Wisconsin Regional Airport – Janesvile\, 4004 S Oakhill Ave\, Janesville\, 53546\, United States
CATEGORIES:Car Show,Fly-In,Motorcycle Show
ATTACH;FMTTYPE=image/png:https://wisconsinmotorevents.com/wp-content/uploads/2025/07/pistons-props-logo-apr-600x335-1.png
END:VEVENT
BEGIN:VEVENT
DTSTART;TZID=America/Chicago:20260829T080000
DTEND;TZID=America/Chicago:20260829T150000
DTSTAMP:20260419T120859
CREATED:20260321T175518Z
LAST-MODIFIED:20260321T175518Z
UID:10004591-1787990400-1788015600@wisconsinmotorevents.com
SUMMARY:Taste of Portage Car & Truck Show - 8/29/2026
DESCRIPTION:
URL:https://wisconsinmotorevents.com/event/taste-of-portage-car-truck-show-8-29-2026/
LOCATION:W Cook St – Portage\, 104 W Cook St\, Portage\, United States
CATEGORIES:Car Show
ATTACH;FMTTYPE=image/jpeg:https://wisconsinmotorevents.com/wp-content/uploads/2026/03/taste-portage.jpg
END:VEVENT
BEGIN:VEVENT
DTSTART;TZID=America/Chicago:20260829T080000
DTEND;TZID=America/Chicago:20260829T170000
DTSTAMP:20260419T120859
CREATED:20250829T133706Z
LAST-MODIFIED:20250829T133706Z
UID:10003664-1787990400-1788022800@wisconsinmotorevents.com
SUMMARY:Pistons & Props Car & Motorcycle Show - Janesville - 8/29/2026
DESCRIPTION:
URL:https://wisconsinmotorevents.com/event/pistons-props-car-show-janesville-8-29-2026/
LOCATION:Southern Wisconsin Regional Airport – Janesvile\, 4004 S Oakhill Ave\, Janesville\, 53546\, United States
CATEGORIES:Car Show,Motorcycle Show
END:VEVENT
BEGIN:VEVENT
DTSTART;TZID=America/Chicago:20260829T090000
DTEND;TZID=America/Chicago:20260829T130000
DTSTAMP:20260419T120859
CREATED:20260304T205501Z
LAST-MODIFIED:20260304T205501Z
UID:10004411-1787994000-1788008400@wisconsinmotorevents.com
SUMMARY:Heppner's Car Show - Hudson - 8/29/2026
DESCRIPTION:
URL:https://wisconsinmotorevents.com/event/heppners-car-show-hudson-8-29-2026/
LOCATION:Heppner’s Auto Body – Hudson\, 2001 Rock St\, Hudson\, 54016\, United States
CATEGORIES:Car Show
END:VEVENT
BEGIN:VEVENT
DTSTART;TZID=America/Chicago:20260829T100000
DTEND;TZID=America/Chicago:20260829T170000
DTSTAMP:20260419T120859
CREATED:20251221T033658Z
LAST-MODIFIED:20251221T033658Z
UID:10003995-1787997600-1788022800@wisconsinmotorevents.com
SUMMARY:Rivers Edge Rockabilly Car Show - Stevens Point - 8/29/26
DESCRIPTION:
URL:https://wisconsinmotorevents.com/event/rivers-edge-rockabilly-car-show-stevens-point-8-29-26/
LOCATION:Rivers Edge Campground\, 3284 Campsite Dr\, Stevens Point\, 54482\, United States
CATEGORIES:Car Show
ATTACH;FMTTYPE=image/jpeg:https://wisconsinmotorevents.com/wp-content/uploads/2025/12/rivers-edge.jpg
END:VEVENT
BEGIN:VEVENT
DTSTART;TZID=America/Chicago:20260829T110000
DTEND;TZID=America/Chicago:20260829T150000
DTSTAMP:20260419T120859
CREATED:20260329T162545Z
LAST-MODIFIED:20260329T162545Z
UID:10004596-1788001200-1788015600@wisconsinmotorevents.com
SUMMARY:Belly Up Car Show - Menomonee Falls - 8/29/2026
DESCRIPTION:$10 registration fee
URL:https://wisconsinmotorevents.com/event/belly-up-car-show-menomonee-falls-8-29-2026/
LOCATION:Belly Up Bar – Menomonee Falls\, N88W18384 Christman Rd\, Menomonee Falls\, 53051\, United States
CATEGORIES:Car Show
ATTACH;FMTTYPE=image/jpeg:https://wisconsinmotorevents.com/wp-content/uploads/2026/03/belly.jpg
END:VEVENT
END:VCALENDAR